BEGIN:VCALENDAR
VERSION:2.0
PRODID:-//UM//UM*Events//EN
CALSCALE:GREGORIAN
BEGIN:VTIMEZONE
TZID:America/Detroit
TZURL:http://tzurl.org/zoneinfo/America/Detroit
X-LIC-LOCATION:America/Detroit
BEGIN:DAYLIGHT
TZOFFSETFROM:-0500
TZOFFSETTO:-0400
TZNAME:EDT
DTSTART:20070311T020000
RRULE:FREQ=YEARLY;BYMONTH=3;BYDAY=2SU
END:DAYLIGHT
BEGIN:STANDARD
TZOFFSETFROM:-0400
TZOFFSETTO:-0500
TZNAME:EST
DTSTART:20071104T020000
RRULE:FREQ=YEARLY;BYMONTH=11;BYDAY=1SU
END:STANDARD
END:VTIMEZONE
BEGIN:VEVENT
DTSTAMP:20230714T115452
DTSTART;TZID=America/Detroit:20230809T110000
DTEND;TZID=America/Detroit:20230809T133000
SUMMARY:Well-being:Expanded M Farmers Market at NCRC
DESCRIPTION:Visit the expanded M Farmers Market at NCRC\, a new multi-vendor market celebrating locally-grown\, locally-produced foods and products. Available on select Wednesdays\, July through October. \n\nPurchase fresh produce and farm products\, made-from-scratch pastas\, breads and treats\, honey products\, local favorites and much more. \n\nView all produce events\, dates\, times\, and locations on the MHealthy website.
UID:109161-21821164@events.umich.edu
URL:https://events.umich.edu/event/109161
CLASS:PUBLIC
STATUS:CONFIRMED
CATEGORIES:Faculty,faculty and staff,Food,fresh produce,fruits and vegetables,Health & Wellness,health and wellness,mhealthy,Staff,Well-being
LOCATION:North Campus Research Complex Building 18 - Ground Floor, outside of the Picasso Café
CONTACT:
END:VEVENT
BEGIN:VEVENT
DTSTAMP:20230824T123244
DTSTART;TZID=America/Detroit:20230809T110000
DTEND;TZID=America/Detroit:20230809T123000
SUMMARY:Careers / Jobs:ServiceNow Open House
DESCRIPTION:Discover the power of ServiceNow at our Virtual Open House! Join us for an engaging info session\, explore breakout rooms for tech and non-tech roles\, enjoy live music from our DJ\, and get a chance to win raffle prizes. Connect with our team of Engagement Leads\, Recruiters\, and ServiceNow professionals for valuable insights and opportunities. Don't miss out on this exciting event!
UID:109923-21823235@events.umich.edu
URL:https://events.umich.edu/event/109923
CLASS:PUBLIC
STATUS:CONFIRMED
CATEGORIES:
LOCATION:
CONTACT:
END:VEVENT
END:VCALENDAR