BEGIN:VCALENDAR
VERSION:2.0
PRODID:-//UM//UM*Events//EN
CALSCALE:GREGORIAN
BEGIN:VTIMEZONE
TZID:America/Detroit
TZURL:http://tzurl.org/zoneinfo/America/Detroit
X-LIC-LOCATION:America/Detroit
BEGIN:DAYLIGHT
TZOFFSETFROM:-0500
TZOFFSETTO:-0400
TZNAME:EDT
DTSTART:20070311T020000
RRULE:FREQ=YEARLY;BYMONTH=3;BYDAY=2SU
END:DAYLIGHT
BEGIN:STANDARD
TZOFFSETFROM:-0400
TZOFFSETTO:-0500
TZNAME:EST
DTSTART:20071104T020000
RRULE:FREQ=YEARLY;BYMONTH=11;BYDAY=1SU
END:STANDARD
END:VTIMEZONE
BEGIN:VEVENT
DTSTAMP:20230427T121417
DTSTART;TZID=America/Detroit:20230809T120000
DTEND;TZID=America/Detroit:20230809T160000
SUMMARY:Tours:Building on a Century of Collecting at the Clements Library
DESCRIPTION:As we celebrate the library’s centennial\, this exhibit is an attempt to answer a question asked often by visitors\, how do you decide what to acquire to add to your collections.\n\nIt builds on the landmark publication of the library’s 75th anniversary\, One Hundred and One Treasures From the Collections of the William L. Clements Library\, edited by former library director John Dann. This exhibit—and its expanded online version—pairs items from 101 Treasures with related items that have for the most part been acquired since 1998. Those that were acquired earlier are items about which we’ve learned new things in the intervening 25 years.
UID:107840-21817595@events.umich.edu
URL:https://events.umich.edu/event/107840
CLASS:PUBLIC
STATUS:CONFIRMED
CATEGORIES:american culture,american history,Centennial,Exhibition,Free,history,In Person,libraries,Library,Tour
LOCATION:William Clements Library
CONTACT:
END:VEVENT
BEGIN:VEVENT
DTSTAMP:20230724T190637
DTSTART;TZID=America/Detroit:20230809T120000
DTEND;TZID=America/Detroit:20230809T133000
SUMMARY:Social / Informal Gathering:GradSWE Female Faculty-Student Summer Mixer 2023
DESCRIPTION:Join GradSWE for our tri-annual Female Faculty-Student Mixer at Johnson Room on August 9th\, 12pm-1:30pm ET.\n\nDuring this event\, we will have groups of faculty members and students mixing at multiple tables. Each table will have topics such as imposter syndrome\, career path\, dealing with failure\, PhD to professor\, and others. We will organize students and faculty to different tables according to their interests. Lunch will be provided.\n\nRSVP is required: https://www.eventbrite.com/e/675563617967
UID:109400-21821972@events.umich.edu
URL:https://events.umich.edu/event/109400
CLASS:PUBLIC
STATUS:CONFIRMED
CATEGORIES:Engineering,Faculty,Food,Graduate Students,Networking,Student Org
LOCATION:Lurie Robert H. Engin. Ctr - Johnson Rooms (3rd Floor)
CONTACT:
END:VEVENT
END:VCALENDAR