BEGIN:VCALENDAR
VERSION:2.0
PRODID:-//UM//UM*Events//EN
CALSCALE:GREGORIAN
BEGIN:VTIMEZONE
TZID:America/Detroit
TZURL:http://tzurl.org/zoneinfo/America/Detroit
X-LIC-LOCATION:America/Detroit
BEGIN:DAYLIGHT
TZOFFSETFROM:-0500
TZOFFSETTO:-0400
TZNAME:EDT
DTSTART:20070311T020000
RRULE:FREQ=YEARLY;BYMONTH=3;BYDAY=2SU
END:DAYLIGHT
BEGIN:STANDARD
TZOFFSETFROM:-0400
TZOFFSETTO:-0500
TZNAME:EST
DTSTART:20071104T020000
RRULE:FREQ=YEARLY;BYMONTH=11;BYDAY=1SU
END:STANDARD
END:VTIMEZONE
BEGIN:VEVENT
DTSTAMP:20240116T141648
DTSTART;TZID=America/Detroit:20230809T120000
DTEND;TZID=America/Detroit:20230809T123000
SUMMARY:Well-being:North Campus Mindfulness Meditation Drop-In (Online)
DESCRIPTION:Take a moment to create some space to breathe and invite a sense of calm into your day. This is a guided mindfulness meditation drop-in session. No experience necessary. Free and open to all. \n\nEmail dmitryb@umich.edu to sign up for the mailing list. You will receive a weekly reminder with the zoom link. Also\, you can add the sessions to your Google Calendar: https://tinyurl.com/y3kbkwd6
UID:40967-21818412@events.umich.edu
URL:https://events.umich.edu/event/40967
CLASS:PUBLIC
STATUS:CONFIRMED
CATEGORIES:Health & Wellness,Meditation,Mindfulness,Mindfulness\, Meditation,North campus,Stress Reduction,Virtual,Well-being
LOCATION:Off Campus Location
CONTACT:
END:VEVENT
BEGIN:VEVENT
DTSTAMP:20240111T092357
DTSTART;TZID=America/Detroit:20230809T123000
DTEND;TZID=America/Detroit:20230809T131500
SUMMARY:Presentation:Sea Monsters
DESCRIPTION:The film follows a curious and adventurous Dolichorhynchops – familiarly known as a ‘dolly’ – as she travels through the most dangerous oceans in history. Along the way\, she encounters long-necked plesiosaurs\, giant turtles\, enormous fish\, fierce sharks\, and the most dangerous sea monster of all\, the mosasaur.\n\nThe state-of-the-art Planetarium & Dome Theater at the U-M Museum of Natural History transports visitors beyond distant stars and back in time from the comfort of reclining seats. Tickets $8. Tickets are available on the day of the show at the Museum Store.\n\nThe planetarium is operating at half capacity to maximize distancing between viewers.
UID:93123-21820842@events.umich.edu
URL:https://events.umich.edu/event/93123
CLASS:PUBLIC
STATUS:CONFIRMED
CATEGORIES:natural history museum,Natural Sciences,Science
LOCATION:Museum of Natural History
CONTACT:
END:VEVENT
END:VCALENDAR