BEGIN:VCALENDAR
VERSION:2.0
PRODID:-//UM//UM*Events//EN
CALSCALE:GREGORIAN
BEGIN:VTIMEZONE
TZID:America/Detroit
TZURL:http://tzurl.org/zoneinfo/America/Detroit
X-LIC-LOCATION:America/Detroit
BEGIN:DAYLIGHT
TZOFFSETFROM:-0500
TZOFFSETTO:-0400
TZNAME:EDT
DTSTART:20070311T020000
RRULE:FREQ=YEARLY;BYMONTH=3;BYDAY=2SU
END:DAYLIGHT
BEGIN:STANDARD
TZOFFSETFROM:-0400
TZOFFSETTO:-0500
TZNAME:EST
DTSTART:20071104T020000
RRULE:FREQ=YEARLY;BYMONTH=11;BYDAY=1SU
END:STANDARD
END:VTIMEZONE
BEGIN:VEVENT
DTSTAMP:20240405T194239
DTSTART;TZID=America/Detroit:20230809T143000
DTEND;TZID=America/Detroit:20230809T151500
SUMMARY:Presentation:We Are Stars
DESCRIPTION:What are we made of? Where did it all come from? Explore the secrets of our cosmic chemistry and our explosive origins. Connect life on Earth to the evolution of the Universe by following the formation of hydrogen atoms to the synthesis of carbon\, and the molecules for life.\n\nThe state-of-the-art Planetarium & Dome Theater at the U-M Museum of Natural History transports visitors beyond distant stars and back in time from the comfort of reclining seats. Tickets $8. Tickets are available on the day of the show at the Museum Store.
UID:108577-21820979@events.umich.edu
URL:https://events.umich.edu/event/108577
CLASS:PUBLIC
STATUS:CONFIRMED
CATEGORIES:Astronomy,Museum,Natural Sciences,Science
LOCATION:Museum of Natural History
CONTACT:
END:VEVENT
BEGIN:VEVENT
DTSTAMP:20230824T123223
DTSTART;TZID=America/Detroit:20230809T150000
DTEND;TZID=America/Detroit:20230809T160000
SUMMARY:Careers / Jobs:Virtual Info Session
DESCRIPTION:For Prospective Residency\, STEM Fellowship\, and Literacy Fellowship applicants to learn about MTR's mission\, history\, and strategy. Attendees will receive an overview of the residency and summer programs\, application process\, and financial benefits. There will be giveaways and time to ask any questions you may have! We can't wait to see you!
UID:109519-21822125@events.umich.edu
URL:https://events.umich.edu/event/109519
CLASS:PUBLIC
STATUS:CONFIRMED
CATEGORIES:
LOCATION:
CONTACT:
END:VEVENT
END:VCALENDAR