BEGIN:VCALENDAR
VERSION:2.0
PRODID:-//UM//UM*Events//EN
CALSCALE:GREGORIAN
BEGIN:VTIMEZONE
TZID:America/Detroit
TZURL:http://tzurl.org/zoneinfo/America/Detroit
X-LIC-LOCATION:America/Detroit
BEGIN:DAYLIGHT
TZOFFSETFROM:-0500
TZOFFSETTO:-0400
TZNAME:EDT
DTSTART:20070311T020000
RRULE:FREQ=YEARLY;BYMONTH=3;BYDAY=2SU
END:DAYLIGHT
BEGIN:STANDARD
TZOFFSETFROM:-0400
TZOFFSETTO:-0500
TZNAME:EST
DTSTART:20071104T020000
RRULE:FREQ=YEARLY;BYMONTH=11;BYDAY=1SU
END:STANDARD
END:VTIMEZONE
BEGIN:VEVENT
DTSTAMP:20230824T183144
DTSTART;TZID=America/Detroit:20230809T160000
DTEND;TZID=America/Detroit:20230809T170000
SUMMARY:Careers / Jobs:Reading Partners is recruiting for Sept/Oct/Nov start dates! Learnmore!
DESCRIPTION:Reading Partners is a national nonprofit that mobilizes communities to provide students with the proven\, individualized reading supportthey need to read at grade level by fourth grade.\n\nOur work is powered by AmeriCorps. We mobilize AmeriCorps members across our 12 regions to recruit and coach volunteers\, support students during and outside of tutoring sessions\, work on capacity-building projects\, and so much more.\n\nThis information session will give you an insight into the day-to-day lives of our AmeriCorps members\, as well as highlight why service with Reading Partners is a right fit for you!
UID:109357-21821912@events.umich.edu
URL:https://events.umich.edu/event/109357
CLASS:PUBLIC
STATUS:CONFIRMED
CATEGORIES:
LOCATION:
CONTACT:
END:VEVENT
BEGIN:VEVENT
DTSTAMP:20230824T123157
DTSTART;TZID=America/Detroit:20230809T170000
DTEND;TZID=America/Detroit:20230809T180000
SUMMARY:Careers / Jobs:Discover Vanguard IMDP: Investment Management Buy Side
DESCRIPTION:In this one hour session\, we will cover what a career in investment management looks like at Vanguard. Join us as our investment professionals discuss what buy-side trading looks like on a corporate level\, and how they use this key function to make a difference for our clients. On top of this\, you'll learn how you can join our team which celebrates continuous professional development\, embraces a diverse working environment\,and provides competitive benefits to our crew.\n\nThis is the third installment of our four-part event series to provide information about the Investment Management Development Program\, how to navigate our application and interview processes\, and to introduce interested students with our business leaders. This role\, as well as our paid College to Corporate Investment Management Internship\, will be accepting applications for our Malvern\, PA headquarters for Summer 2024 starting in June.\n\nThis virtual eventis open to all undergraduate students\, and attendance to all four installments is not required.\n\nWe look forward to meeting you!
UID:108332-21819360@events.umich.edu
URL:https://events.umich.edu/event/108332
CLASS:PUBLIC
STATUS:CONFIRMED
CATEGORIES:
LOCATION:
CONTACT:
END:VEVENT
END:VCALENDAR