BEGIN:VCALENDAR
VERSION:2.0
PRODID:-//UM//UM*Events//EN
CALSCALE:GREGORIAN
BEGIN:VTIMEZONE
TZID:America/Detroit
TZURL:http://tzurl.org/zoneinfo/America/Detroit
X-LIC-LOCATION:America/Detroit
BEGIN:DAYLIGHT
TZOFFSETFROM:-0500
TZOFFSETTO:-0400
TZNAME:EDT
DTSTART:20070311T020000
RRULE:FREQ=YEARLY;BYMONTH=3;BYDAY=2SU
END:DAYLIGHT
BEGIN:STANDARD
TZOFFSETFROM:-0400
TZOFFSETTO:-0500
TZNAME:EST
DTSTART:20071104T020000
RRULE:FREQ=YEARLY;BYMONTH=11;BYDAY=1SU
END:STANDARD
END:VTIMEZONE
BEGIN:VEVENT
DTSTAMP:20230531T095743
DTSTART;TZID=America/Detroit:20230809T200000
SUMMARY:Performance:Brett Dennen
DESCRIPTION:More than good vibes\n\nCalifornia’s Brett Dennen is songwriter\, performer\, watercolor artist\, and environmental conservationist\, and outdoorsman\, and the shows he performs and the events he hosts generate more than good vibes. His impact has been to gather like-minded music fans to consistently try to make the world a better place. Brett comes to Michigan with a new song\, “This Is Going to Be the Year\,” of which he says\, “This song is about being brand new again. When something\, an idea\, or an actual thing\, is so new that you don't know what it's going to be like yet. You don't know how far it can go or how great it can be. You can only imagine.” Optimistic stuff from a songwriter who has released seven well-received albums and gained fans all over the country.\n\nTicket On-sale Information:\n\nArtist presale: May 31st 10AM - June 1st 10PM\nSpotify presale: May 31st 10 AM - June 1st 10 PM\nVenue presale: June 1st 10 AM - 10 PM\nPublic on-sale: June 2nd at 10 AM\n\nPlease visit https://mutotix.umich.edu/4183/4184 for more detail.
UID:108279-21819208@events.umich.edu
URL:https://events.umich.edu/event/108279
CLASS:PUBLIC
STATUS:CONFIRMED
CATEGORIES:Ark,Mutotix
LOCATION:ARK Reserved + Gold Circle
CONTACT:
END:VEVENT
BEGIN:VEVENT
DTSTAMP:20230810T082023
DTSTART;TZID=America/Detroit:20230810T083000
DTEND;TZID=America/Detroit:20230810T103000
SUMMARY:Workshop / Seminar:UMPDA COFFEE HOUR
DESCRIPTION:Join us for the UMPDA Coffee Hour. There will be free coffee and bagels available and the chance to network with fellow postdocs. Feel free to contact Timi (adediran@umich.edu) if you have any questions or concerns. 
UID:108425-21821350@events.umich.edu
URL:https://events.umich.edu/event/108425
CLASS:PUBLIC
STATUS:CONFIRMED
CATEGORIES:Sessions
LOCATION:West Conference Room in Rackham Building (4th floor)
CONTACT:
END:VEVENT
END:VCALENDAR