BEGIN:VCALENDAR
VERSION:2.0
PRODID:-//UM//UM*Events//EN
CALSCALE:GREGORIAN
BEGIN:VTIMEZONE
TZID:America/Detroit
TZURL:http://tzurl.org/zoneinfo/America/Detroit
X-LIC-LOCATION:America/Detroit
BEGIN:DAYLIGHT
TZOFFSETFROM:-0500
TZOFFSETTO:-0400
TZNAME:EDT
DTSTART:20070311T020000
RRULE:FREQ=YEARLY;BYMONTH=3;BYDAY=2SU
END:DAYLIGHT
BEGIN:STANDARD
TZOFFSETFROM:-0400
TZOFFSETTO:-0500
TZNAME:EST
DTSTART:20071104T020000
RRULE:FREQ=YEARLY;BYMONTH=11;BYDAY=1SU
END:STANDARD
END:VTIMEZONE
BEGIN:VEVENT
DTSTAMP:20230628T113933
DTSTART;TZID=America/Detroit:20230711T110000
DTEND;TZID=America/Detroit:20230711T120000
SUMMARY:Conference / Symposium:Become a UROP Symposium Judge
DESCRIPTION:Become a judge at our Research Symposium this upcoming spring on April 19th 2023. The Spring Symposium will host around 980 presenters across the U-M campus. Support this event by helping award blue ribbons to students who give outstanding research presentations.
UID:108917-21820567@events.umich.edu
URL:https://events.umich.edu/event/108917
CLASS:PUBLIC
STATUS:CONFIRMED
CATEGORIES:Social Justice,Professional Development,Prospective Undergraduate Students,Public Health,Research,research data,Social Impact,Networking,Social Sciences,symposium,The College Of Literature\, Science\, And The Arts,Urop,Women's Studies,AEM Featured,Engineering,Environment,Faculty,Free,Graduate and Professional Students,Humanities,Interdisciplinary,Leadership,Mentorship
LOCATION:Michigan League - Ballroom
CONTACT:
END:VEVENT
BEGIN:VEVENT
DTSTAMP:20230501T123627
DTSTART;TZID=America/Detroit:20230711T110000
DTEND;TZID=America/Detroit:20230711T120000
SUMMARY:Workshop / Seminar:Parenting Through Separation and Divorce Virtual Workshop – Spring 2023
DESCRIPTION:Separation or divorce is difficult to handle in general — when children are in the mix\, it becomes that much more complex. Many parents are concerned about the well-being of their children during this time of change. This University Center for the Child and Family workshop delivers practical parenting advice in a collaborative\, caring environment for those going through change. We help parents understand their children’s needs during the transition and offer specific suggestions for creating the most beneficial post-divorce parenting relationships.\n\nThe program is an approved alternative to the SMILE Program by the Friend of the Court.\n\nWhat to Expect\n+ Practical\, actionable advice for couples going through a temporary or permanent split.\n+ A caring and collaborative environment for attendees facilitated by UCCF staff members.\n+ Guidance to help parents understand their children’s needs during what can be a tumultuous time of change and uncertainty.\n+A certificate of participation once the workshop is over.\n\nWhile it is free\, workshop participants must register via Eventbrite. You will be provided the link once your registration is confirmed.
UID:106606-21818354@events.umich.edu
URL:https://events.umich.edu/event/106606
CLASS:PUBLIC
STATUS:CONFIRMED
CATEGORIES:Children,parenting,Free,Divorce
LOCATION:Off Campus Location
CONTACT:
END:VEVENT
END:VCALENDAR