BEGIN:VCALENDAR
VERSION:2.0
PRODID:-//UM//UM*Events//EN
CALSCALE:GREGORIAN
BEGIN:VTIMEZONE
TZID:America/Detroit
TZURL:http://tzurl.org/zoneinfo/America/Detroit
X-LIC-LOCATION:America/Detroit
BEGIN:DAYLIGHT
TZOFFSETFROM:-0500
TZOFFSETTO:-0400
TZNAME:EDT
DTSTART:20070311T020000
RRULE:FREQ=YEARLY;BYMONTH=3;BYDAY=2SU
END:DAYLIGHT
BEGIN:STANDARD
TZOFFSETFROM:-0400
TZOFFSETTO:-0500
TZNAME:EST
DTSTART:20071104T020000
RRULE:FREQ=YEARLY;BYMONTH=11;BYDAY=1SU
END:STANDARD
END:VTIMEZONE
BEGIN:VEVENT
DTSTAMP:20230825T063220
DTSTART;TZID=America/Detroit:20230810T090000
DTEND;TZID=America/Detroit:20230810T153000
SUMMARY:Careers / Jobs:University of Iowa Master of Health Administration Admissions Webinar and Open House
DESCRIPTION:Open to undergraduate student interested in applying to the Master of Health Administration program at the University of Iowa. This event will allow prospective students to ask questions of admissions staff andnetwork with faculty\, current students\, and MHA program alumni.\n\nRegistrants can choose 1 of 2 attendance options:\n- Virtual Open House and Webinar: 9:00-10:30am\n- In-person Open House: 1:00-3:30pm\n\nRanked #8 by U.S. News and World Report\, this fully CAHME-accredited program provides graduates with a comprehensive understanding of patient-centered health care as well as the skills needed to navigate complex administrative and management systems. Graduates are well-prepared for continual professional growth and advancement. The daily activities of the MHA graduates range from financial analysis to the coordination of volunteer efforts in a hospital or community health center.
UID:109570-21822311@events.umich.edu
URL:https://events.umich.edu/event/109570
CLASS:PUBLIC
STATUS:CONFIRMED
CATEGORIES:
LOCATION:Building CPHB - College of Public Health Building, College of Public Health Building, Iowa City, Iowa, United States
CONTACT:
END:VEVENT
BEGIN:VEVENT
DTSTAMP:20230810T101438
DTSTART;TZID=America/Detroit:20230810T100000
DTEND;TZID=America/Detroit:20230810T160000
SUMMARY:Exhibition:Featured Exhibits
DESCRIPTION:Stop by the Collections Case display in the museum’s main atrium\, behind the mastodons\, to see Nature’s Pharmacy.\n\nAugust 2023–July 2024\n\nPlants and fungi play a vital role in medicine due to the diversity of chemical defense mechanisms they evolved to safeguard them against pathogens\, herbivores\, and competitors. From its inception\, the U-M Herbarium has cataloged and described plants—both poisonous and beneficial to human health—and still serves that role today. See specimens of these plant and fungal “friends” and “foes” from the U-M Herbarium collection and learn about how the collection is used for drug discovery today.
UID:110032-21823833@events.umich.edu
URL:https://events.umich.edu/event/110032
CLASS:PUBLIC
STATUS:CONFIRMED
CATEGORIES:Biology,Exhibition,Free,Museum,Natural Sciences,Science
LOCATION:Museum of Natural History
CONTACT:
END:VEVENT
END:VCALENDAR