BEGIN:VCALENDAR
VERSION:2.0
PRODID:-//UM//UM*Events//EN
CALSCALE:GREGORIAN
BEGIN:VTIMEZONE
TZID:America/Detroit
TZURL:http://tzurl.org/zoneinfo/America/Detroit
X-LIC-LOCATION:America/Detroit
BEGIN:DAYLIGHT
TZOFFSETFROM:-0500
TZOFFSETTO:-0400
TZNAME:EDT
DTSTART:20070311T020000
RRULE:FREQ=YEARLY;BYMONTH=3;BYDAY=2SU
END:DAYLIGHT
BEGIN:STANDARD
TZOFFSETFROM:-0400
TZOFFSETTO:-0500
TZNAME:EST
DTSTART:20071104T020000
RRULE:FREQ=YEARLY;BYMONTH=11;BYDAY=1SU
END:STANDARD
END:VTIMEZONE
BEGIN:VEVENT
DTSTAMP:20230714T113528
DTSTART;TZID=America/Detroit:20230810T100000
DTEND;TZID=America/Detroit:20230810T130000
SUMMARY:Well-being:M Farmers Market at West Ann Arbor Health Center
DESCRIPTION:Visit the M Farmers Market at West Ann Arbor Health Center (EAAHC) every Thursday\, July 13 – Sept. 21\, 2023\, 10 a.m. – 1 p.m. (Note\, a market will not be offered on Sept. 7). Purchase fresh fruits\, vegetables\, flowers and more.\n\nView all produce events\, dates\, times\, and locations on the MHealthy website.
UID:109160-21821156@events.umich.edu
URL:https://events.umich.edu/event/109160
CLASS:PUBLIC
STATUS:CONFIRMED
CATEGORIES:Faculty,faculty and staff,Food,fresh produce,fruits and vegetables,Health & Wellness,health and wellness,mhealthy,Well-being
LOCATION:Off Campus Location - Outside, front of the building along the sidewalk area
CONTACT:
END:VEVENT
BEGIN:VEVENT
DTSTAMP:20230825T063216
DTSTART;TZID=America/Detroit:20230810T100000
DTEND;TZID=America/Detroit:20230810T140000
SUMMARY:Careers / Jobs:NYC H+H/ Elmhurst Hospital Veterans Recruitment Event
DESCRIPTION:Join us at Elmhurst Hospital for our Veterans Recruitment Event on Thursday\, August 10th from 10AM-2PM. Registration is required to participate. Please submit your resume to Recruit@nychhc.org to register for the event with subject line: Elmhurst Vet Event 8/2023. \n\nFor more information\, please visit the link: https://www.nychealthandhospitals.org/events/elmhurst-veterans-recruitment-event-2/
UID:109534-21822147@events.umich.edu
URL:https://events.umich.edu/event/109534
CLASS:PUBLIC
STATUS:CONFIRMED
CATEGORIES:
LOCATION:7901 Broadway, Queens, New York 11373, United States
CONTACT:
END:VEVENT
END:VCALENDAR