BEGIN:VCALENDAR
VERSION:2.0
PRODID:-//UM//UM*Events//EN
CALSCALE:GREGORIAN
BEGIN:VTIMEZONE
TZID:America/Detroit
TZURL:http://tzurl.org/zoneinfo/America/Detroit
X-LIC-LOCATION:America/Detroit
BEGIN:DAYLIGHT
TZOFFSETFROM:-0500
TZOFFSETTO:-0400
TZNAME:EDT
DTSTART:20070311T020000
RRULE:FREQ=YEARLY;BYMONTH=3;BYDAY=2SU
END:DAYLIGHT
BEGIN:STANDARD
TZOFFSETFROM:-0400
TZOFFSETTO:-0500
TZNAME:EST
DTSTART:20071104T020000
RRULE:FREQ=YEARLY;BYMONTH=11;BYDAY=1SU
END:STANDARD
END:VTIMEZONE
BEGIN:VEVENT
DTSTAMP:20230427T121417
DTSTART;TZID=America/Detroit:20230810T120000
DTEND;TZID=America/Detroit:20230810T160000
SUMMARY:Tours:Building on a Century of Collecting at the Clements Library
DESCRIPTION:As we celebrate the library’s centennial\, this exhibit is an attempt to answer a question asked often by visitors\, how do you decide what to acquire to add to your collections.\n\nIt builds on the landmark publication of the library’s 75th anniversary\, One Hundred and One Treasures From the Collections of the William L. Clements Library\, edited by former library director John Dann. This exhibit—and its expanded online version—pairs items from 101 Treasures with related items that have for the most part been acquired since 1998. Those that were acquired earlier are items about which we’ve learned new things in the intervening 25 years.
UID:107840-21817625@events.umich.edu
URL:https://events.umich.edu/event/107840
CLASS:PUBLIC
STATUS:CONFIRMED
CATEGORIES:american culture,american history,Centennial,Exhibition,Free,history,In Person,libraries,Library,Tour
LOCATION:William Clements Library
CONTACT:
END:VEVENT
BEGIN:VEVENT
DTSTAMP:20230810T112025
DTSTART;TZID=America/Detroit:20230810T120000
DTEND;TZID=America/Detroit:20230810T130000
SUMMARY:Workshop / Seminar:Coffee Chats for Graduate Students: The Art of the Resume Bullet Point
DESCRIPTION:We are offering a number of virtual coffee chats for the graduate student community this summer\, hosted by Rackham’s embedded University Career Center career counselors. The topic for this session is resumes. In particular\, what are some strategies for writing the all-important bullet point? In an interactive discussion with examples\, discussion\, and opportunities to workshop your own resume\, we will work on framing your experiences as effectively as possible.If you have a draft resume\, please have it on hand so you can refer to it during the workshop.This event is intended to be interactive and therefore a recording will not be available.
UID:109384-21821955@events.umich.edu
URL:https://events.umich.edu/event/109384
CLASS:PUBLIC
STATUS:CONFIRMED
CATEGORIES:Sessions
LOCATION:Virtual via Zoom
CONTACT:
END:VEVENT
END:VCALENDAR