BEGIN:VCALENDAR
VERSION:2.0
PRODID:-//UM//UM*Events//EN
CALSCALE:GREGORIAN
BEGIN:VTIMEZONE
TZID:America/Detroit
TZURL:http://tzurl.org/zoneinfo/America/Detroit
X-LIC-LOCATION:America/Detroit
BEGIN:DAYLIGHT
TZOFFSETFROM:-0500
TZOFFSETTO:-0400
TZNAME:EDT
DTSTART:20070311T020000
RRULE:FREQ=YEARLY;BYMONTH=3;BYDAY=2SU
END:DAYLIGHT
BEGIN:STANDARD
TZOFFSETFROM:-0400
TZOFFSETTO:-0500
TZNAME:EST
DTSTART:20071104T020000
RRULE:FREQ=YEARLY;BYMONTH=11;BYDAY=1SU
END:STANDARD
END:VTIMEZONE
BEGIN:VEVENT
DTSTAMP:20230724T181520
DTSTART;TZID=America/Detroit:20230810T120000
DTEND;TZID=America/Detroit:20230810T130000
SUMMARY:Livestream / Virtual:Coffee Chats for Graduate Students: The Art of the Resume Bullet Point
DESCRIPTION:We are offering a number of virtual coffee chats for the graduate student community this summer\, hosted by Rackham’s embedded University Career Center career counselors. The topic for this session is resumes. In particular\, what are some strategies for writing the all-important bullet point? In an interactive discussion with examples\, discussion\, and opportunities to workshop your own resume\, we will work on framing your experiences as effectively as possible.\nIf you have a draft resume\, please have it on hand so you can refer to it during the workshop.\n\nThis event is intended to be interactive and therefore a recording will not be available.\nRegistration is required at https://myumi.ch/ezx7W.\nWe want to ensure full and equitable participation in our events. If an accommodation would promote your full participation in this event\, please follow the registration link to indicate your accommodation requirements. Please let us know as soon as possible in order to have adequate time\, preferably one week\, to arrange for your requested accommodations or an effective alternative.
UID:109392-21821964@events.umich.edu
URL:https://events.umich.edu/event/109392
CLASS:PUBLIC
STATUS:CONFIRMED
CATEGORIES:Graduate Students
LOCATION:Off Campus Location
CONTACT:
END:VEVENT
BEGIN:VEVENT
DTSTAMP:20230825T063147
DTSTART;TZID=America/Detroit:20230810T120000
DTEND;TZID=America/Detroit:20230810T130000
SUMMARY:Careers / Jobs:Resume Lab
DESCRIPTION:Just getting started building a resume? Have a draft but not sure how to make it better? Want to learn about resources available to revise your resume? Wherever you’re at Resume Lab is a great next step for you.\n\nGet real-time\, personalized support in a small group setting by checking out the Resume Lab. \n\nWe will discuss and educate you on…\n- Design and format\n- Writing a great bullet point\n- Targeting your resume for specific internships/jobs\n\nIf you're a Graduate Student or Recent Grad\, please make a 1:1 appointment instead of attending the Lab because this event is designed for undergraduates.
UID:107581-21816232@events.umich.edu
URL:https://events.umich.edu/event/107581
CLASS:PUBLIC
STATUS:CONFIRMED
CATEGORIES:
LOCATION:
CONTACT:
END:VEVENT
END:VCALENDAR