BEGIN:VCALENDAR
VERSION:2.0
PRODID:-//UM//UM*Events//EN
CALSCALE:GREGORIAN
BEGIN:VTIMEZONE
TZID:America/Detroit
TZURL:http://tzurl.org/zoneinfo/America/Detroit
X-LIC-LOCATION:America/Detroit
BEGIN:DAYLIGHT
TZOFFSETFROM:-0500
TZOFFSETTO:-0400
TZNAME:EDT
DTSTART:20070311T020000
RRULE:FREQ=YEARLY;BYMONTH=3;BYDAY=2SU
END:DAYLIGHT
BEGIN:STANDARD
TZOFFSETFROM:-0400
TZOFFSETTO:-0500
TZNAME:EST
DTSTART:20071104T020000
RRULE:FREQ=YEARLY;BYMONTH=11;BYDAY=1SU
END:STANDARD
END:VTIMEZONE
BEGIN:VEVENT
DTSTAMP:20240111T092357
DTSTART;TZID=America/Detroit:20230810T123000
DTEND;TZID=America/Detroit:20230810T131500
SUMMARY:Presentation:Sea Monsters
DESCRIPTION:The film follows a curious and adventurous Dolichorhynchops – familiarly known as a ‘dolly’ – as she travels through the most dangerous oceans in history. Along the way\, she encounters long-necked plesiosaurs\, giant turtles\, enormous fish\, fierce sharks\, and the most dangerous sea monster of all\, the mosasaur.\n\nThe state-of-the-art Planetarium & Dome Theater at the U-M Museum of Natural History transports visitors beyond distant stars and back in time from the comfort of reclining seats. Tickets $8. Tickets are available on the day of the show at the Museum Store.\n\nThe planetarium is operating at half capacity to maximize distancing between viewers.
UID:93123-21820843@events.umich.edu
URL:https://events.umich.edu/event/93123
CLASS:PUBLIC
STATUS:CONFIRMED
CATEGORIES:natural history museum,Natural Sciences,Science
LOCATION:Museum of Natural History
CONTACT:
END:VEVENT
BEGIN:VEVENT
DTSTAMP:20230711T142614
DTSTART;TZID=America/Detroit:20230810T130000
DTEND;TZID=America/Detroit:20230810T160000
SUMMARY:Workshop / Seminar:AMIIBL WORKSHOP
DESCRIPTION:This workshop series will provide opportunities for participants to develop plans for developing and/or refining active learning instructional approaches. Generative discussion and collaboration around the development of classroom activities and instructional plans will be a central aspect of the workshop. We will engage with strategies and potential challenges for cultivating a strong and inclusive mathematics learning community.\n\nRegistration: https://docs.google.com/forms/d/e/1FAIpQLSehTjQXMs4982WOL6XHwJhs4MlWFhswqyD22cUy7TS1JlmKZg/viewform
UID:109073-21821041@events.umich.edu
URL:https://events.umich.edu/event/109073
CLASS:PUBLIC
STATUS:CONFIRMED
CATEGORIES:Diversity Equity And Inclusion,Mathematics
LOCATION:Off Campus Location
CONTACT:
END:VEVENT
END:VCALENDAR