BEGIN:VCALENDAR
VERSION:2.0
PRODID:-//UM//UM*Events//EN
CALSCALE:GREGORIAN
BEGIN:VTIMEZONE
TZID:America/Detroit
TZURL:http://tzurl.org/zoneinfo/America/Detroit
X-LIC-LOCATION:America/Detroit
BEGIN:DAYLIGHT
TZOFFSETFROM:-0500
TZOFFSETTO:-0400
TZNAME:EDT
DTSTART:20070311T020000
RRULE:FREQ=YEARLY;BYMONTH=3;BYDAY=2SU
END:DAYLIGHT
BEGIN:STANDARD
TZOFFSETFROM:-0400
TZOFFSETTO:-0500
TZNAME:EST
DTSTART:20071104T020000
RRULE:FREQ=YEARLY;BYMONTH=11;BYDAY=1SU
END:STANDARD
END:VTIMEZONE
BEGIN:VEVENT
DTSTAMP:20230810T122024
DTSTART;TZID=America/Detroit:20230810T130000
DTEND;TZID=America/Detroit:20230810T163000
SUMMARY:Conference / Symposium:Business Objects 4.3 In-Person Training - August
DESCRIPTION:This is an in-person training that covers the fundamentals of Business Objects and the steps to navigate in the new version to perform basic\, intermediate and advanced tasks in BO. Please bring your own laptop and power adapter.\n
UID:108295-21819252@events.umich.edu
URL:https://events.umich.edu/event/108295
CLASS:PUBLIC
STATUS:CONFIRMED
CATEGORIES:Sessions
LOCATION:Arbor Lakes North Dome
CONTACT:
END:VEVENT
BEGIN:VEVENT
DTSTAMP:20230825T123146
DTSTART;TZID=America/Detroit:20230810T130000
DTEND;TZID=America/Detroit:20230810T140000
SUMMARY:Careers / Jobs:EF Global Finance Program
DESCRIPTION:Calling all 2023 and 2024 graduates! EF is now hiring for our Global Finance Program to start in August 2024. If you are looking to makeincredible impact and to jump start an international career - this program could be for you. Tailor-made to give broad exposure to many finance areas and to EF executive staff\, this 24-month program places exceptionally talented individuals in four different roles across several business unitsin our Cambridge\, MA office.\n\nJoin us to learn more about the company\, the program's application requirements\, timeline\, etc.\, and\, hear directly from former GFP associates to learn about their experience in the program and their current thriving careers at EF!
UID:109498-21822090@events.umich.edu
URL:https://events.umich.edu/event/109498
CLASS:PUBLIC
STATUS:CONFIRMED
CATEGORIES:
LOCATION:
CONTACT:
END:VEVENT
END:VCALENDAR