BEGIN:VCALENDAR
VERSION:2.0
PRODID:-//UM//UM*Events//EN
CALSCALE:GREGORIAN
BEGIN:VTIMEZONE
TZID:America/Detroit
TZURL:http://tzurl.org/zoneinfo/America/Detroit
X-LIC-LOCATION:America/Detroit
BEGIN:DAYLIGHT
TZOFFSETFROM:-0500
TZOFFSETTO:-0400
TZNAME:EDT
DTSTART:20070311T020000
RRULE:FREQ=YEARLY;BYMONTH=3;BYDAY=2SU
END:DAYLIGHT
BEGIN:STANDARD
TZOFFSETFROM:-0400
TZOFFSETTO:-0500
TZNAME:EST
DTSTART:20071104T020000
RRULE:FREQ=YEARLY;BYMONTH=11;BYDAY=1SU
END:STANDARD
END:VTIMEZONE
BEGIN:VEVENT
DTSTAMP:20230825T123138
DTSTART;TZID=America/Detroit:20230810T130000
DTEND;TZID=America/Detroit:20230810T140000
SUMMARY:Careers / Jobs:Presidential Management Fellows (PMF) Program:  Open to All Academic Fields
DESCRIPTION:The PMF Program will host a series of info sessions for graduate students who are interested in learning more about the PMF Program\, applying to the upcoming 2024 application\, and launching a career in the Federal Government. The PMF Program is the Federal Government’s premier leadership development program for advanced degree holders across all academic disciplines and from all segments of society. It is a two-year fellowship at a federal agency that is full-time with full salary and benefits\, leadership and technical development opportunities\, and it can lead to a permanent career in the Federal Government.\n\nThis session will be open toall academic disciplines. It will provide a general overview of the PMF Program\, initial details about the 2024 application cycle (expected to launch this September)\, and a Q&A Session. \n\nTo be eligible to apply to the PMF Program when the application launches this fall\, you should be going into the final year of your advanced degree program (expecting to complete all requirements by 8/31/2024)\, or you have finished your advanced degree in the two years prior to the application launch.\n\nSpace is limited and dates\, times\, and thematic focus are subject to change\; please check back for any updates. Please add “pmfapplication@opm.gov” to your safe/allowed list to receive our confirmation email.\n\nThis session will NOT be recorded for later publishing or viewing\, and there will be a maximum capacity of 500 participants. Registration will close upon reaching capacity or at Noon (ET) on the day of the event\, whichever occurs first. \n\nTo stay informed on the PMF Program and upcoming application\, sign up for our PMF Subscriber List for Potential Applicants here: https://apply.pmf.gov. To sign up\, click the \"Subscribe\" button near the bottom of the page and follow the instructions.\n\nAdditional details about the upcoming PMF application\, and any updates\, can be found under the \"Become a PMF\" section on our website at https://www.pmf.gov\, including the \"2024 Application” section. A full list of informational webinars is also posted to the \"2024 Application\" section. A copy of the general “Presentation Slidesfor Potential Applicants” is posted towards the bottom of the “Becomea PMF/Resources” webpage at https://www.pmf.gov/become-a-pmf/resources/.\n
UID:109494-21822086@events.umich.edu
URL:https://events.umich.edu/event/109494
CLASS:PUBLIC
STATUS:CONFIRMED
CATEGORIES:
LOCATION:
CONTACT:
END:VEVENT
BEGIN:VEVENT
DTSTAMP:20230825T123127
DTSTART;TZID=America/Detroit:20230810T130000
DTEND;TZID=America/Detroit:20230810T160000
SUMMARY:Careers / Jobs:Vanguard Virtual Emerging Leadership 2023 EXPLORE Day
DESCRIPTION:Are you a first- or second-year student considering business leadership as you navigate your summer internship search? If so\, join us as we host our Emerging Leadership 2023 EXPLORE Day to discover your next move!\n\nAt this virtual event\, you'll have the opportunity to:\n- Learn from our crew members about our unique approach to developing future business leaders across the entire enterprise\n- Gain exposure to our College toCorporate Business internship\, and how it can lead to a full-time rotational opportunity following graduation\n- Discover Vanguard's competitive benefits and the various ways we foster continuous professional developmentthroughout your career\n\nDon't miss out on this chance to learn about how you can make an impact with an organization that's changing the way the world invests! First-and second-year undergraduate students of all majors are encouraged to apply. \n\nPlease be sure to submit your application no later than Thursday\, July 14th.
UID:108283-21819212@events.umich.edu
URL:https://events.umich.edu/event/108283
CLASS:PUBLIC
STATUS:CONFIRMED
CATEGORIES:
LOCATION:
CONTACT:
END:VEVENT
END:VCALENDAR