BEGIN:VCALENDAR
VERSION:2.0
PRODID:-//UM//UM*Events//EN
CALSCALE:GREGORIAN
BEGIN:VTIMEZONE
TZID:America/Detroit
TZURL:http://tzurl.org/zoneinfo/America/Detroit
X-LIC-LOCATION:America/Detroit
BEGIN:DAYLIGHT
TZOFFSETFROM:-0500
TZOFFSETTO:-0400
TZNAME:EDT
DTSTART:20070311T020000
RRULE:FREQ=YEARLY;BYMONTH=3;BYDAY=2SU
END:DAYLIGHT
BEGIN:STANDARD
TZOFFSETFROM:-0400
TZOFFSETTO:-0500
TZNAME:EST
DTSTART:20071104T020000
RRULE:FREQ=YEARLY;BYMONTH=11;BYDAY=1SU
END:STANDARD
END:VTIMEZONE
BEGIN:VEVENT
DTSTAMP:20230726T063043
DTSTART;TZID=America/Detroit:20230711T120000
DTEND;TZID=America/Detroit:20230711T190000
SUMMARY:Careers / Jobs:Allied Health Virtual Information Sessions
DESCRIPTION:Register today for a virtual information session to explore how you can advance your allied health career with Duke Health. Each sessionwill offer an overview of respiratory care\, imaging\, and laboratory opportunities available across the Triangle\, as well as Duke's total rewardsand incentive programs designed to support you both on and off the clock.There will also be time to connect with a recruiter and hiring managers for questions about your area of interest.\n\nTime: 12 p.m. - 1 p.m. or 6 p.m. - 7 p.m.\nLocation: Virtual (Zoom)\nHiring for: Duke Health's imaging\, laboratory\, and respiratory care teams\, including:\n\n> Imaging: CT technologists\, MR technologists\, mammography technologists\, radiologic technologists\, nuclear medicine technologists\, interventional technologists\, sonographers\n> Clinical Laboratories: medical technicians\, medical lab scientists\n> Respiratory Care Services: respiratory care practitioners
UID:108579-21820044@events.umich.edu
URL:https://events.umich.edu/event/108579
CLASS:PUBLIC
STATUS:CONFIRMED
CATEGORIES:
LOCATION:
CONTACT:
END:VEVENT
BEGIN:VEVENT
DTSTAMP:20230427T121417
DTSTART;TZID=America/Detroit:20230711T120000
DTEND;TZID=America/Detroit:20230711T160000
SUMMARY:Tours:Building on a Century of Collecting at the Clements Library
DESCRIPTION:As we celebrate the library’s centennial\, this exhibit is an attempt to answer a question asked often by visitors\, how do you decide what to acquire to add to your collections.\n\nIt builds on the landmark publication of the library’s 75th anniversary\, One Hundred and One Treasures From the Collections of the William L. Clements Library\, edited by former library director John Dann. This exhibit—and its expanded online version—pairs items from 101 Treasures with related items that have for the most part been acquired since 1998. Those that were acquired earlier are items about which we’ve learned new things in the intervening 25 years.
UID:107840-21817562@events.umich.edu
URL:https://events.umich.edu/event/107840
CLASS:PUBLIC
STATUS:CONFIRMED
CATEGORIES:american culture,american history,Centennial,Exhibition,Free,history,In Person,libraries,Library,Tour
LOCATION:William Clements Library
CONTACT:
END:VEVENT
END:VCALENDAR