BEGIN:VCALENDAR
VERSION:2.0
PRODID:-//UM//UM*Events//EN
CALSCALE:GREGORIAN
BEGIN:VTIMEZONE
TZID:America/Detroit
TZURL:http://tzurl.org/zoneinfo/America/Detroit
X-LIC-LOCATION:America/Detroit
BEGIN:DAYLIGHT
TZOFFSETFROM:-0500
TZOFFSETTO:-0400
TZNAME:EDT
DTSTART:20070311T020000
RRULE:FREQ=YEARLY;BYMONTH=3;BYDAY=2SU
END:DAYLIGHT
BEGIN:STANDARD
TZOFFSETFROM:-0400
TZOFFSETTO:-0500
TZNAME:EST
DTSTART:20071104T020000
RRULE:FREQ=YEARLY;BYMONTH=11;BYDAY=1SU
END:STANDARD
END:VTIMEZONE
BEGIN:VEVENT
DTSTAMP:20230825T123139
DTSTART;TZID=America/Detroit:20230810T140000
DTEND;TZID=America/Detroit:20230810T150000
SUMMARY:Careers / Jobs:EY-Parthenon Virtual Info Session
DESCRIPTION:EY-Parthenon is excited to be hosting a Virtual Info Session with The University of Michigan\, Ann Arbor to share details about our Summer Associate & Emerging Leaders Internship recruitment process for our Core pipeline. This event is open to undergraduate students\, grade levels sophomore\, junior\, and senior with graduation dates between December 2024 through June 2026.\n\nPlease join us for this exciting event. Come meet Michigan Alumni to learn more about our projects and sectors in the strategyconsulting space\, our culture and commitment to inclusiveness\, and how you can flex your entrepreneurial muscles from day one to make an impact.\n\nPlease register for this event at: https://tinyurl.com/2nx76eh7\n\nA Zoom link will provided after an RSVP is submitted.
UID:109327-21821412@events.umich.edu
URL:https://events.umich.edu/event/109327
CLASS:PUBLIC
STATUS:CONFIRMED
CATEGORIES:
LOCATION:
CONTACT:
END:VEVENT
BEGIN:VEVENT
DTSTAMP:20240405T194239
DTSTART;TZID=America/Detroit:20230810T143000
DTEND;TZID=America/Detroit:20230810T151500
SUMMARY:Presentation:We Are Stars
DESCRIPTION:What are we made of? Where did it all come from? Explore the secrets of our cosmic chemistry and our explosive origins. Connect life on Earth to the evolution of the Universe by following the formation of hydrogen atoms to the synthesis of carbon\, and the molecules for life.\n\nThe state-of-the-art Planetarium & Dome Theater at the U-M Museum of Natural History transports visitors beyond distant stars and back in time from the comfort of reclining seats. Tickets $8. Tickets are available on the day of the show at the Museum Store.
UID:108577-21820980@events.umich.edu
URL:https://events.umich.edu/event/108577
CLASS:PUBLIC
STATUS:CONFIRMED
CATEGORIES:Astronomy,Museum,Natural Sciences,Science
LOCATION:Museum of Natural History
CONTACT:
END:VEVENT
END:VCALENDAR