BEGIN:VCALENDAR
VERSION:2.0
PRODID:-//UM//UM*Events//EN
CALSCALE:GREGORIAN
BEGIN:VTIMEZONE
TZID:America/Detroit
TZURL:http://tzurl.org/zoneinfo/America/Detroit
X-LIC-LOCATION:America/Detroit
BEGIN:DAYLIGHT
TZOFFSETFROM:-0500
TZOFFSETTO:-0400
TZNAME:EDT
DTSTART:20070311T020000
RRULE:FREQ=YEARLY;BYMONTH=3;BYDAY=2SU
END:DAYLIGHT
BEGIN:STANDARD
TZOFFSETFROM:-0400
TZOFFSETTO:-0500
TZNAME:EST
DTSTART:20071104T020000
RRULE:FREQ=YEARLY;BYMONTH=11;BYDAY=1SU
END:STANDARD
END:VTIMEZONE
BEGIN:VEVENT
DTSTAMP:20230825T123157
DTSTART;TZID=America/Detroit:20230810T150000
DTEND;TZID=America/Detroit:20230810T160000
SUMMARY:Careers / Jobs:Get to Know Aflac: Career Overview (Full-Time)
DESCRIPTION:Join our 60-minute virtual Career Info session to have the opportunity of learning more about our Benefits Advisor sales position!  (full-time)  \nWe are seeking motivated\, growth-focused individuals who are interested in learning more about an insurance career.
UID:109850-21823097@events.umich.edu
URL:https://events.umich.edu/event/109850
CLASS:PUBLIC
STATUS:CONFIRMED
CATEGORIES:
LOCATION:
CONTACT:
END:VEVENT
BEGIN:VEVENT
DTSTAMP:20230420T121514
DTSTART;TZID=America/Detroit:20230810T150000
DTEND;TZID=America/Detroit:20230810T160000
SUMMARY:Other:Virtual Information Session
DESCRIPTION:Join us for a virtual\, hour-long info session on undergraduate programs at the University of Michigan Stamps School of Art &amp\; Design\, including a presentation and Q&amp\;A with current students and the admissions team.Info session times are Eastern US.\nVisit our Admissions Events page to learn more about additional upcoming events.
UID:107703-21816384@events.umich.edu
URL:https://events.umich.edu/event/107703
CLASS:PUBLIC
STATUS:CONFIRMED
CATEGORIES:Art
LOCATION:Off Campus Location
CONTACT:
END:VEVENT
END:VCALENDAR