BEGIN:VCALENDAR
VERSION:2.0
PRODID:-//UM//UM*Events//EN
CALSCALE:GREGORIAN
BEGIN:VTIMEZONE
TZID:America/Detroit
TZURL:http://tzurl.org/zoneinfo/America/Detroit
X-LIC-LOCATION:America/Detroit
BEGIN:DAYLIGHT
TZOFFSETFROM:-0500
TZOFFSETTO:-0400
TZNAME:EDT
DTSTART:20070311T020000
RRULE:FREQ=YEARLY;BYMONTH=3;BYDAY=2SU
END:DAYLIGHT
BEGIN:STANDARD
TZOFFSETFROM:-0400
TZOFFSETTO:-0500
TZNAME:EST
DTSTART:20071104T020000
RRULE:FREQ=YEARLY;BYMONTH=11;BYDAY=1SU
END:STANDARD
END:VTIMEZONE
BEGIN:VEVENT
DTSTAMP:20230725T113220
DTSTART;TZID=America/Detroit:20230810T160000
SUMMARY:Workshop / Seminar:News from Phosphorus in Low Coordination
DESCRIPTION:Low-coordinate phosphorus(III) compounds have recently re-gained noticeable interest as the very peculiar stereoelectronic and coordination properties of such λ3σ2-species differ significantly from classical trivalent λ3σ3-phosphanes. These special characteristics can lead to interesting effects in more applied research fields\, such as homogeneous catalysis and material science.\n\nThis lecture will focus on the design and preparation of novel\, functionalized phosphinines\, the higher homologs of pyridines. Special emphasis will be paid to the modification of their electronic properties\, their coordination chemistry and reactivity. A novel route towards terminal cyaphido-complexes LnM-C≡P will also be highlighted.
UID:109145-21821130@events.umich.edu
URL:https://events.umich.edu/event/109145
CLASS:PUBLIC
STATUS:CONFIRMED
CATEGORIES:Chemistry,Inorganic Chemistry,Science
LOCATION:Chemistry Dow Lab - 1400
CONTACT:
END:VEVENT
BEGIN:VEVENT
DTSTAMP:20230825T123137
DTSTART;TZID=America/Detroit:20230810T160000
DTEND;TZID=America/Detroit:20230810T163000
SUMMARY:Careers / Jobs:ScribeAmerica Virtual Information Session 8/10
DESCRIPTION:📣 Calling all aspiring medical scribes! 🩺📚 Join our Virtual Information Session and unlock the path to your medical career withScribeAmerica! 💼\n\nAre you passionate about medicine and looking to gain invaluable experience in the healthcare field? Look no further! ScribeAmerica\, the nation's leading medical scribe company\, is hosting a virtual information session that you don't want to miss.\n\n📅 Date: 8/10/2023\n⏰ Time: 4:00pm-4:30pm EST\n💻 Platform: Virtual Session via Google Meet\n\nDuring this engaging session\, we will delve into the world of medical scribing and how it can shape your future in healthcare. Whether you're a pre-medical student\, a recent graduate\, or an aspiring healthcare professional\, this event is designed to provide you with the knowledge andinsights to kickstart your career.
UID:109296-21821360@events.umich.edu
URL:https://events.umich.edu/event/109296
CLASS:PUBLIC
STATUS:CONFIRMED
CATEGORIES:
LOCATION:
CONTACT:
END:VEVENT
END:VCALENDAR