BEGIN:VCALENDAR
VERSION:2.0
PRODID:-//UM//UM*Events//EN
CALSCALE:GREGORIAN
BEGIN:VTIMEZONE
TZID:America/Detroit
TZURL:http://tzurl.org/zoneinfo/America/Detroit
X-LIC-LOCATION:America/Detroit
BEGIN:DAYLIGHT
TZOFFSETFROM:-0500
TZOFFSETTO:-0400
TZNAME:EDT
DTSTART:20070311T020000
RRULE:FREQ=YEARLY;BYMONTH=3;BYDAY=2SU
END:DAYLIGHT
BEGIN:STANDARD
TZOFFSETFROM:-0400
TZOFFSETTO:-0500
TZNAME:EST
DTSTART:20071104T020000
RRULE:FREQ=YEARLY;BYMONTH=11;BYDAY=1SU
END:STANDARD
END:VTIMEZONE
BEGIN:VEVENT
DTSTAMP:20230711T164058
DTSTART;TZID=America/Detroit:20230811T123000
DTEND;TZID=America/Detroit:20230811T130000
SUMMARY:Tours:Mid-Day Morsel | Drop-In Tour
DESCRIPTION:Looking for something to feed your brain on your lunch hour? The Mid-Day Morsel tour at the Kelsey Museum is a 30-minute taste of ancient Mediterranean history and artifact highlights in the Kelsey collection. Mid-Day Morsel tours begin at 12:30 PM. No registration is needed. Tour participants should gather at our Maynard Street entrance a few minutes before the tour is scheduled to start.\n\nThis event is free and open to all visitors. If you have any questions or concerns regarding accessing this event\, please visit our accessibility page at https://myumi.ch/zwPkd or contact the education office by calling (734) 647-4167. We ask for advance notice as some accommodations may require more time for the university to arrange.
UID:109078-21821047@events.umich.edu
URL:https://events.umich.edu/event/109078
CLASS:PUBLIC
STATUS:CONFIRMED
CATEGORIES:Archaeology,Free,Museum,Tour
LOCATION:Kelsey Museum of Archaeology
CONTACT:
END:VEVENT
BEGIN:VEVENT
DTSTAMP:20240111T092357
DTSTART;TZID=America/Detroit:20230811T123000
DTEND;TZID=America/Detroit:20230811T131500
SUMMARY:Presentation:Sea Monsters
DESCRIPTION:The film follows a curious and adventurous Dolichorhynchops – familiarly known as a ‘dolly’ – as she travels through the most dangerous oceans in history. Along the way\, she encounters long-necked plesiosaurs\, giant turtles\, enormous fish\, fierce sharks\, and the most dangerous sea monster of all\, the mosasaur.\n\nThe state-of-the-art Planetarium & Dome Theater at the U-M Museum of Natural History transports visitors beyond distant stars and back in time from the comfort of reclining seats. Tickets $8. Tickets are available on the day of the show at the Museum Store.\n\nThe planetarium is operating at half capacity to maximize distancing between viewers.
UID:93123-21820844@events.umich.edu
URL:https://events.umich.edu/event/93123
CLASS:PUBLIC
STATUS:CONFIRMED
CATEGORIES:natural history museum,Natural Sciences,Science
LOCATION:Museum of Natural History
CONTACT:
END:VEVENT
END:VCALENDAR