BEGIN:VCALENDAR
VERSION:2.0
PRODID:-//UM//UM*Events//EN
CALSCALE:GREGORIAN
BEGIN:VTIMEZONE
TZID:America/Detroit
TZURL:http://tzurl.org/zoneinfo/America/Detroit
X-LIC-LOCATION:America/Detroit
BEGIN:DAYLIGHT
TZOFFSETFROM:-0500
TZOFFSETTO:-0400
TZNAME:EDT
DTSTART:20070311T020000
RRULE:FREQ=YEARLY;BYMONTH=3;BYDAY=2SU
END:DAYLIGHT
BEGIN:STANDARD
TZOFFSETFROM:-0400
TZOFFSETTO:-0500
TZNAME:EST
DTSTART:20071104T020000
RRULE:FREQ=YEARLY;BYMONTH=11;BYDAY=1SU
END:STANDARD
END:VTIMEZONE
BEGIN:VEVENT
DTSTAMP:20230413T112017
DTSTART;TZID=America/Detroit:20230811T200000
SUMMARY:Performance:Alison Brown
DESCRIPTION:New music from the queen of progressive banjo\n\nAcoustic instrumental music has never been so beautifully represented as by Alison Brown. She’s one of the most multi-faceted minds on today’s roots music scene\, and every one of her endeavors is marked by innovation\, intelligence\, and grace. She throws out the textbook when it comes to playing the banjo\, and the result is a sound that blends the rugged drive of bluegrass with the harmonic sensibilities of jazz\, earning vast acclaim and a GRAMMY award in the process. Alison comes to Michigan with a new release\, “On Banjo.”\n\nPlease visit https://mutotix.umich.edu/4112/4113 for more detail.
UID:107448-21816038@events.umich.edu
URL:https://events.umich.edu/event/107448
CLASS:PUBLIC
STATUS:CONFIRMED
CATEGORIES:Ark,Mutotix
LOCATION:ARK Reserved
CONTACT:
END:VEVENT
BEGIN:VEVENT
DTSTAMP:20230805T075202
DTSTART;TZID=America/Detroit:20230812T080000
DTEND;TZID=America/Detroit:20230812T120000
SUMMARY:Workshop / Seminar:BME Summer Workshops @ Michigan
DESCRIPTION:The BME Summer Workshop @ Michigan\, titled “Imaging and Therapy in Vision Research 2023\,” is happening August 11-12\, 2023\, at NCRC Building 10\, South Atrium. \n\nThis event\, co-hosted by U-M BME and Ophthalmology and Visual Sciences\, will provide a platform for discussing common research interests in diagnosis and treatment of pathologic conditions associated with the eye and the brain.\n\nFeatured guest speakers will include Dr. Joseph Izatt\, the Michael J. Fitzpatrick Distinguished Professor of Engineering and Chair\, Biomedical Engineering Department\, Duke University\; Dr. Xincheng Yao\, the Richard and Loan Hill Professor from the University of Illinois at Chicago\; Dr. Juliette E. McGregor\, Assistant Professor at the University of Rochester\, and Dr. Salavat Aglyamov\, Research Assistant Professor from the University of Houston.
UID:109859-21823107@events.umich.edu
URL:https://events.umich.edu/event/109859
CLASS:PUBLIC
STATUS:CONFIRMED
CATEGORIES:symposium,seminar,Science,Research,Networking,Michigan Engineering,Medicine,engineering,engineer,bme,Biotechnology,biomedical engineering,biomedical
LOCATION:North Campus Research Complex Building 10 - South Atrium
CONTACT:
END:VEVENT
END:VCALENDAR