BEGIN:VCALENDAR
VERSION:2.0
PRODID:-//UM//UM*Events//EN
CALSCALE:GREGORIAN
BEGIN:VTIMEZONE
TZID:America/Detroit
TZURL:http://tzurl.org/zoneinfo/America/Detroit
X-LIC-LOCATION:America/Detroit
BEGIN:DAYLIGHT
TZOFFSETFROM:-0500
TZOFFSETTO:-0400
TZNAME:EDT
DTSTART:20070311T020000
RRULE:FREQ=YEARLY;BYMONTH=3;BYDAY=2SU
END:DAYLIGHT
BEGIN:STANDARD
TZOFFSETFROM:-0400
TZOFFSETTO:-0500
TZNAME:EST
DTSTART:20071104T020000
RRULE:FREQ=YEARLY;BYMONTH=11;BYDAY=1SU
END:STANDARD
END:VTIMEZONE
BEGIN:VEVENT
DTSTAMP:20220818T100608
DTSTART;TZID=America/Detroit:20230813T100000
DTEND;TZID=America/Detroit:20230813T120000
SUMMARY:Ceremony / Service:Sunday Celebration
DESCRIPTION:The school year is about to begin! No matter your background\, join us in kicking off this season with new expectations and hope.\n\nJoin us at 10AM every Sunday to experience church in a fresh way as we worship and seek God together. We meet at the Transformation Center (1001 E. Huron St.) which is located across the street from the Rackham Auditorium and the Power Center.\n\nCurious? Check out our website at https://annarbor.hmcc.net/ to learn more about who we are and what we value.
UID:96832-21793860@events.umich.edu
URL:https://events.umich.edu/event/96832
CLASS:PUBLIC
STATUS:CONFIRMED
CATEGORIES:christian,welcome week,spiritual,religious,faith,church,christianity
LOCATION:Off Campus Location
CONTACT:
END:VEVENT
BEGIN:VEVENT
DTSTAMP:20230601T141842
DTSTART;TZID=America/Detroit:20230813T100000
DTEND;TZID=America/Detroit:20230813T170000
SUMMARY:Exhibition:UN/EARTH
DESCRIPTION:Featuring work by Gina Gibson\, UN/EARTH explores science and art from a mile underground. Located in the former Homestake gold mine in Lead\, South Dakota\, the Sanford Underground Research Facility (SURF) houses experiments that give us a better understanding of the universe. The location—deep underground—provides a near-perfect environment for experiments that need to escape the constant bombardment of cosmic radiation\, which can interfere with the detection of rare physics events. Built in collaboration with the University of Michigan\, the LUX-Zeplin is the world’s most sensitive dark matter experiment. SURF also hosts experiments in biology\, geology and engineering.\n\nGina Gibson is an internationally exhibiting artist and professor of Graphic Design at Black Hills State University. In 2019\, Gibson became the first artist in residence at the Sanford Underground Research Facility. Gibson's work celebrates the search deep below the surface for beauty in the old and new\, the light and dark\, and the known and unknown.\n\nUN/EARTH was developed in collaboration with the U-M Department of Physics\, the Sanford Underground Research Facility and Black Hills State University.
UID:105121-21810970@events.umich.edu
URL:https://events.umich.edu/event/105121
CLASS:PUBLIC
STATUS:CONFIRMED
CATEGORIES:Free,Art,Exhibition,Culture,Visual Arts,Museum,Natural Sciences,Science
LOCATION:Museum of Natural History
CONTACT:
END:VEVENT
END:VCALENDAR