BEGIN:VCALENDAR
VERSION:2.0
PRODID:-//UM//UM*Events//EN
CALSCALE:GREGORIAN
BEGIN:VTIMEZONE
TZID:America/Detroit
TZURL:http://tzurl.org/zoneinfo/America/Detroit
X-LIC-LOCATION:America/Detroit
BEGIN:DAYLIGHT
TZOFFSETFROM:-0500
TZOFFSETTO:-0400
TZNAME:EDT
DTSTART:20070311T020000
RRULE:FREQ=YEARLY;BYMONTH=3;BYDAY=2SU
END:DAYLIGHT
BEGIN:STANDARD
TZOFFSETFROM:-0400
TZOFFSETTO:-0500
TZNAME:EST
DTSTART:20071104T020000
RRULE:FREQ=YEARLY;BYMONTH=11;BYDAY=1SU
END:STANDARD
END:VTIMEZONE
BEGIN:VEVENT
DTSTAMP:20240405T194239
DTSTART;TZID=America/Detroit:20230711T143000
DTEND;TZID=America/Detroit:20230711T151500
SUMMARY:Presentation:We Are Stars
DESCRIPTION:What are we made of? Where did it all come from? Explore the secrets of our cosmic chemistry and our explosive origins. Connect life on Earth to the evolution of the Universe by following the formation of hydrogen atoms to the synthesis of carbon\, and the molecules for life.\n\nThe state-of-the-art Planetarium & Dome Theater at the U-M Museum of Natural History transports visitors beyond distant stars and back in time from the comfort of reclining seats. Tickets $8. Tickets are available on the day of the show at the Museum Store.
UID:108577-21820150@events.umich.edu
URL:https://events.umich.edu/event/108577
CLASS:PUBLIC
STATUS:CONFIRMED
CATEGORIES:Astronomy,Museum,Natural Sciences,Science
LOCATION:Museum of Natural History
CONTACT:
END:VEVENT
BEGIN:VEVENT
DTSTAMP:20230726T123049
DTSTART;TZID=America/Detroit:20230711T150000
DTEND;TZID=America/Detroit:20230711T180000
SUMMARY:Careers / Jobs:OPEN INTERVIEW TUESDAY AT GROWING TOGETHER LEARNING CENTER
DESCRIPTION:Join us for Open Interview Tuesday at Bright Horizons at Corporate Campus.\n\n\nBright Horizons at Corporate Campus is located at 2606 Charlotte Ave.\, Nashville\, TN 37209 is hiring Teachers\, Associate Teachers!\n\n\nCome in on Tuesday for the opportunity to drop off your resume\, explore the center and meet the Team who will be more than glad to answer any questions you may have. \n\nWe offer extensive benefits including 401(k)\, health insurance\, PTO\, and the opportunity to earn your ECE degree through our Horizons Teacher Degree Program – for FREE!   \n\n\nPositions: Associate and Substitute Teachers\n\n\nWE LOOK FORWARD TO MEETING YOU!\n\n
UID:108892-21820518@events.umich.edu
URL:https://events.umich.edu/event/108892
CLASS:PUBLIC
STATUS:CONFIRMED
CATEGORIES:
LOCATION:2606 Charlotte Avenue, Nashville, Tennessee 37209, United States
CONTACT:
END:VEVENT
END:VCALENDAR