BEGIN:VCALENDAR
VERSION:2.0
PRODID:-//UM//UM*Events//EN
CALSCALE:GREGORIAN
BEGIN:VTIMEZONE
TZID:America/Detroit
TZURL:http://tzurl.org/zoneinfo/America/Detroit
X-LIC-LOCATION:America/Detroit
BEGIN:DAYLIGHT
TZOFFSETFROM:-0500
TZOFFSETTO:-0400
TZNAME:EDT
DTSTART:20070311T020000
RRULE:FREQ=YEARLY;BYMONTH=3;BYDAY=2SU
END:DAYLIGHT
BEGIN:STANDARD
TZOFFSETFROM:-0400
TZOFFSETTO:-0500
TZNAME:EST
DTSTART:20071104T020000
RRULE:FREQ=YEARLY;BYMONTH=11;BYDAY=1SU
END:STANDARD
END:VTIMEZONE
BEGIN:VEVENT
DTSTAMP:20230813T120007
DTSTART;TZID=America/Detroit:20230813T140000
DTEND;TZID=America/Detroit:20230813T170000
SUMMARY:Other:Instructor Workshop for Swing Dancers
DESCRIPTION:WHAT:Join Angel Jenio\, Eric Wu\, and Ike Swets as they share tips\, wisdom\, and advice on swing instruction! This workshop will be broken into two parts. In part one\, Angel\, Eric\, and Ike will share their approaches to teaching\, how to prepare for a lesson\, what they do while teaching\, things they do after a lesson\, and how they develop themselves as teachers. In part two\, workshop attendees will practice designing and developing a lesson plan\, getting feedback in real time. This workshop is for experienced swing instructors as well as those just getting started!  COST: FREE
UID:109512-21822118@events.umich.edu
URL:https://events.umich.edu/event/109512
CLASS:PUBLIC
STATUS:CONFIRMED
CATEGORIES:
LOCATION:Mason Hall
CONTACT:
END:VEVENT
BEGIN:VEVENT
DTSTAMP:20240405T194239
DTSTART;TZID=America/Detroit:20230813T143000
DTEND;TZID=America/Detroit:20230813T151500
SUMMARY:Presentation:We Are Stars
DESCRIPTION:What are we made of? Where did it all come from? Explore the secrets of our cosmic chemistry and our explosive origins. Connect life on Earth to the evolution of the Universe by following the formation of hydrogen atoms to the synthesis of carbon\, and the molecules for life.\n\nThe state-of-the-art Planetarium & Dome Theater at the U-M Museum of Natural History transports visitors beyond distant stars and back in time from the comfort of reclining seats. Tickets $8. Tickets are available on the day of the show at the Museum Store.
UID:108577-21820983@events.umich.edu
URL:https://events.umich.edu/event/108577
CLASS:PUBLIC
STATUS:CONFIRMED
CATEGORIES:Astronomy,Museum,Natural Sciences,Science
LOCATION:Museum of Natural History
CONTACT:
END:VEVENT
END:VCALENDAR