BEGIN:VCALENDAR
VERSION:2.0
PRODID:-//UM//UM*Events//EN
CALSCALE:GREGORIAN
BEGIN:VTIMEZONE
TZID:America/Detroit
TZURL:http://tzurl.org/zoneinfo/America/Detroit
X-LIC-LOCATION:America/Detroit
BEGIN:DAYLIGHT
TZOFFSETFROM:-0500
TZOFFSETTO:-0400
TZNAME:EDT
DTSTART:20070311T020000
RRULE:FREQ=YEARLY;BYMONTH=3;BYDAY=2SU
END:DAYLIGHT
BEGIN:STANDARD
TZOFFSETFROM:-0400
TZOFFSETTO:-0500
TZNAME:EST
DTSTART:20071104T020000
RRULE:FREQ=YEARLY;BYMONTH=11;BYDAY=1SU
END:STANDARD
END:VTIMEZONE
BEGIN:VEVENT
DTSTAMP:20230503T125746
DTSTART;TZID=America/Detroit:20230813T150000
DTEND;TZID=America/Detroit:20230813T152000
SUMMARY:Presentation:Science Forum Discovery Demos
DESCRIPTION:Join us in the Science Forum for a 15-20 minute engaging science demonstration that will help you see the world in a whole new way. Demonstrations are free and appropriate for visitors ages 5 and above. Schedule subject to change.\n\nOut of the Water and Back Again: A Whale’s Tale\n\nTake a journey through deep time as we explore a story that has taken millions of years to unfold\, and then examine a brand new discovery! Where did life begin? How did the first four-footed land animals emerge? And why do fossil whales have feet? Participants examine the museum’s fossil whales and related species as they learn about the evolutionary processes responsible for the diversity of life on Earth.
UID:102010-21820831@events.umich.edu
URL:https://events.umich.edu/event/102010
CLASS:PUBLIC
STATUS:CONFIRMED
CATEGORIES:Children,Family,Free,Museum,Natural Sciences,Science
LOCATION:Museum of Natural History
CONTACT:
END:VEVENT
BEGIN:VEVENT
DTSTAMP:20230530T161209
DTSTART;TZID=America/Detroit:20230813T193000
SUMMARY:Performance:Samantha Fish ft. Jesse Dayton
DESCRIPTION:The Death Wish Blues tour\n\nThe first-ever collaborative album from Samantha Fish and Jesse Dayton\, “Death Wish Blues” is a body of work born from a shared passion for pushing the limits of blues music. As one of the most dynamic forces in the blues world today\, Samantha Rish has made her name as a multi-award-winning festival headliner who captivates crowds with her explosive yet elegant guitar work\, delivering an unbridled form of blues-rock that defies all genre boundaries. Jesse Dayton\, meanwhile\, boasts an extraordinary background that includes recording with the likes of Johnny Cash and Waylon Jennings\, touring as a guitarist for seminal punk band X\, working with Rob Zombie on the soundtracks for his iconic horror films\, and releasing a series of acclaimed solo albums. Produced by the legendary Jon Spencer of Jon Spencer Blues Explosion\, “Death Wish Blues” ultimately melds their eclectic sensibilities into a batch of songs both emotionally potent and wildly combustible.\n\nPlease visit https://mutotix.umich.edu/4187/4188 for more detail.
UID:108380-21819453@events.umich.edu
URL:https://events.umich.edu/event/108380
CLASS:PUBLIC
STATUS:CONFIRMED
CATEGORIES:Ark,Mutotix
LOCATION:ARK Reserved
CONTACT:
END:VEVENT
END:VCALENDAR