BEGIN:VCALENDAR
VERSION:2.0
PRODID:-//UM//UM*Events//EN
CALSCALE:GREGORIAN
BEGIN:VTIMEZONE
TZID:America/Detroit
TZURL:http://tzurl.org/zoneinfo/America/Detroit
X-LIC-LOCATION:America/Detroit
BEGIN:DAYLIGHT
TZOFFSETFROM:-0500
TZOFFSETTO:-0400
TZNAME:EDT
DTSTART:20070311T020000
RRULE:FREQ=YEARLY;BYMONTH=3;BYDAY=2SU
END:DAYLIGHT
BEGIN:STANDARD
TZOFFSETFROM:-0400
TZOFFSETTO:-0500
TZNAME:EST
DTSTART:20071104T020000
RRULE:FREQ=YEARLY;BYMONTH=11;BYDAY=1SU
END:STANDARD
END:VTIMEZONE
BEGIN:VEVENT
DTSTAMP:20230726T123054
DTSTART;TZID=America/Detroit:20230711T160000
DTEND;TZID=America/Detroit:20230711T164500
SUMMARY:Careers / Jobs:Ask a Recruiter Office Hours: Campus Tech Roles at McKinsey & Company
DESCRIPTION:We look forward to getting to know you better!  Please join usfor an optional Q&A session to get your questions answered about McKinsey's technical expert roles (roles that include software engineers\, data engineers\, data scientists\, designers) for students that are currently enrolled school.  We are happy to discuss anything ranging from the interviewprocess and preparation\, to what's new at McKinsey.  Please note this isa small group event and there will be other participants on the Zoom.  \n\nWe will be discusing only our campus tech roles and their timelines.  Business integrative consulting roles will not be covered.
UID:109019-21820730@events.umich.edu
URL:https://events.umich.edu/event/109019
CLASS:PUBLIC
STATUS:CONFIRMED
CATEGORIES:
LOCATION:
CONTACT:
END:VEVENT
BEGIN:VEVENT
DTSTAMP:20230726T123035
DTSTART;TZID=America/Detroit:20230711T160000
DTEND;TZID=America/Detroit:20230711T170000
SUMMARY:Careers / Jobs:L.E.K. Consulting Case Workshop
DESCRIPTION:We invite you to join us for an Undergraduate Case Interview Workshop. There will be a short introduction that will enable you to learn more about L.E.K.\, the Associate and Summer Associate roles\, and then a case interview workshop where you will learn various frameworks and run through some practice cases. There will also be time to speak with representatives from our firm\, which will be a great opportunity to learn more about L.E.K. and the recruiting process. To learn more about L.E.K. Consulting please also visit our website (www.lek.com) and advisor blog (ask.lek.com).\n\nPlease join us for one of our undergraduate virtual case workshop events this summer.\n\nThursday\, April 20th\n\nWednesday\, May 24th\n\nWednesday\, June 7th\n\nTuesday\, July 11th\n\nPlease note that L.E.K. Consulting is not able to consider candidates at the Associate level who would now or in the future require sponsorship to work legally in the U.S.
UID:107481-21816091@events.umich.edu
URL:https://events.umich.edu/event/107481
CLASS:PUBLIC
STATUS:CONFIRMED
CATEGORIES:
LOCATION:
CONTACT:
END:VEVENT
END:VCALENDAR