BEGIN:VCALENDAR
VERSION:2.0
PRODID:-//UM//UM*Events//EN
CALSCALE:GREGORIAN
BEGIN:VTIMEZONE
TZID:America/Detroit
TZURL:http://tzurl.org/zoneinfo/America/Detroit
X-LIC-LOCATION:America/Detroit
BEGIN:DAYLIGHT
TZOFFSETFROM:-0500
TZOFFSETTO:-0400
TZNAME:EDT
DTSTART:20070311T020000
RRULE:FREQ=YEARLY;BYMONTH=3;BYDAY=2SU
END:DAYLIGHT
BEGIN:STANDARD
TZOFFSETFROM:-0400
TZOFFSETTO:-0500
TZNAME:EST
DTSTART:20071104T020000
RRULE:FREQ=YEARLY;BYMONTH=11;BYDAY=1SU
END:STANDARD
END:VTIMEZONE
BEGIN:VEVENT
DTSTAMP:20230810T102322
DTSTART;TZID=America/Detroit:20230815T100000
DTEND;TZID=America/Detroit:20230815T160000
SUMMARY:Exhibition:Featured Exhibits
DESCRIPTION:Stop by the Student Showcase display in the museum’s main atrium\, behind the mastodons\, to see Molecules of Life.\n\nAugust 2023–July 2024\n\nMolecules of Life (Student Showcase)\nDiscover the connection between form and function as you explore the molecular building blocks of life. In the realm of biological macromolecules such as proteins and nucleic acids\, form determines function\, so visualizing the three-dimensional structures of molecules is key in researching the ‘tiny’ macromolecules that perform vital functions in our cells. In Biophysics 421\, under the guidance of Markos Koutmos\, Assistant Professor of Biophysics & Chemistry\, and Liz Tidwell\, PhD candidate in Biophysics\, students created models with digital modeling software and brought them to life via 3D printing. This exhibit showcases the 3D printed molecules\, scaled up to better reveal the structures that inform\, make\, break\, modify\, and move within the body.
UID:110034-21824046@events.umich.edu
URL:https://events.umich.edu/event/110034
CLASS:PUBLIC
STATUS:CONFIRMED
CATEGORIES:Exhibition,Science,Natural Sciences,Museum,Free,Biosciences
LOCATION:Museum of Natural History
CONTACT:
END:VEVENT
BEGIN:VEVENT
DTSTAMP:20230810T101438
DTSTART;TZID=America/Detroit:20230815T100000
DTEND;TZID=America/Detroit:20230815T160000
SUMMARY:Exhibition:Featured Exhibits
DESCRIPTION:Stop by the Collections Case display in the museum’s main atrium\, behind the mastodons\, to see Nature’s Pharmacy.\n\nAugust 2023–July 2024\n\nPlants and fungi play a vital role in medicine due to the diversity of chemical defense mechanisms they evolved to safeguard them against pathogens\, herbivores\, and competitors. From its inception\, the U-M Herbarium has cataloged and described plants—both poisonous and beneficial to human health—and still serves that role today. See specimens of these plant and fungal “friends” and “foes” from the U-M Herbarium collection and learn about how the collection is used for drug discovery today.
UID:110032-21823920@events.umich.edu
URL:https://events.umich.edu/event/110032
CLASS:PUBLIC
STATUS:CONFIRMED
CATEGORIES:Biology,Science,Natural Sciences,Museum,Free,Exhibition
LOCATION:Museum of Natural History
CONTACT:
END:VEVENT
END:VCALENDAR