BEGIN:VCALENDAR
VERSION:2.0
PRODID:-//UM//UM*Events//EN
CALSCALE:GREGORIAN
BEGIN:VTIMEZONE
TZID:America/Detroit
TZURL:http://tzurl.org/zoneinfo/America/Detroit
X-LIC-LOCATION:America/Detroit
BEGIN:DAYLIGHT
TZOFFSETFROM:-0500
TZOFFSETTO:-0400
TZNAME:EDT
DTSTART:20070311T020000
RRULE:FREQ=YEARLY;BYMONTH=3;BYDAY=2SU
END:DAYLIGHT
BEGIN:STANDARD
TZOFFSETFROM:-0400
TZOFFSETTO:-0500
TZNAME:EST
DTSTART:20071104T020000
RRULE:FREQ=YEARLY;BYMONTH=11;BYDAY=1SU
END:STANDARD
END:VTIMEZONE
BEGIN:VEVENT
DTSTAMP:20230726T123041
DTSTART;TZID=America/Detroit:20230711T170000
DTEND;TZID=America/Detroit:20230711T173000
SUMMARY:Careers / Jobs:Learn About Capital One's Analyst Program + Recruiter and Associate Q&A
DESCRIPTION:Curious about what working at Capital One is like? Maybe you're wondering what is an Analyst and what do they do? Join us for our Analyst info session to learn more!\n\nDuring this replay event\, you'll learn more about working in unique\, but interconnected roles. This is also a great chance to hear more about #LifeatCapitalOne\, to ask questions about our exciting opportunities\, and to meet a few of our associates during the live Q&A.\n
UID:108371-21819432@events.umich.edu
URL:https://events.umich.edu/event/108371
CLASS:PUBLIC
STATUS:CONFIRMED
CATEGORIES:
LOCATION:
CONTACT:
END:VEVENT
BEGIN:VEVENT
DTSTAMP:20230726T123050
DTSTART;TZID=America/Detroit:20230711T170000
DTEND;TZID=America/Detroit:20230711T180000
SUMMARY:Careers / Jobs:Northwest Arctic Borough School District-Join the Team!
DESCRIPTION:Learn about the uniqueness of working for our school district!Great salary and benefits. Join us to learn more!
UID:108920-21820583@events.umich.edu
URL:https://events.umich.edu/event/108920
CLASS:PUBLIC
STATUS:CONFIRMED
CATEGORIES:
LOCATION:
CONTACT:
END:VEVENT
END:VCALENDAR