BEGIN:VCALENDAR
VERSION:2.0
PRODID:-//UM//UM*Events//EN
CALSCALE:GREGORIAN
BEGIN:VTIMEZONE
TZID:America/Detroit
TZURL:http://tzurl.org/zoneinfo/America/Detroit
X-LIC-LOCATION:America/Detroit
BEGIN:DAYLIGHT
TZOFFSETFROM:-0500
TZOFFSETTO:-0400
TZNAME:EDT
DTSTART:20070311T020000
RRULE:FREQ=YEARLY;BYMONTH=3;BYDAY=2SU
END:DAYLIGHT
BEGIN:STANDARD
TZOFFSETFROM:-0400
TZOFFSETTO:-0500
TZNAME:EST
DTSTART:20071104T020000
RRULE:FREQ=YEARLY;BYMONTH=11;BYDAY=1SU
END:STANDARD
END:VTIMEZONE
BEGIN:VEVENT
DTSTAMP:20230726T123040
DTSTART;TZID=America/Detroit:20230711T173000
DTEND;TZID=America/Detroit:20230711T181500
SUMMARY:Careers / Jobs:Learn About Capital One's Programs + Recruiter and Associate Q&A
DESCRIPTION:Are you an undergraduate student or recent grad interested in exploring job opportunities at Capital One? We have several internship andfull-time opportunities available! Join us for an informative and engaging session where you will hear an overview of each program from recruiters\, followed by breakout rooms where you’ll be able to interact directly with recruiters and associates working in areas like Tech\, Analytics\, andmore.\n\nAgenda:\n5:30-6:00pm: All Track Overview\n6:00-6:15pm: Live Q&A\n\nThe information portion of this event is a replay.  There will be live Q&A.\n
UID:108315-21819274@events.umich.edu
URL:https://events.umich.edu/event/108315
CLASS:PUBLIC
STATUS:CONFIRMED
CATEGORIES:
LOCATION:
CONTACT:
END:VEVENT
BEGIN:VEVENT
DTSTAMP:20230726T123050
DTSTART;TZID=America/Detroit:20230711T180000
DTEND;TZID=America/Detroit:20230711T190000
SUMMARY:Careers / Jobs:How To Build a Killer Resume & Cover Letter
DESCRIPTION:Cover letters and resumes don’t have to be scary! Join us July 11 at 6pm ET to learn how you can showcase your accomplishments and unique skills and talents with some tips and techniques that will help your resume stand out and get you one step closer to the career of your dreams.
UID:108926-21820601@events.umich.edu
URL:https://events.umich.edu/event/108926
CLASS:PUBLIC
STATUS:CONFIRMED
CATEGORIES:
LOCATION:
CONTACT:
END:VEVENT
END:VCALENDAR