BEGIN:VCALENDAR
VERSION:2.0
PRODID:-//UM//UM*Events//EN
CALSCALE:GREGORIAN
BEGIN:VTIMEZONE
TZID:America/Detroit
TZURL:http://tzurl.org/zoneinfo/America/Detroit
X-LIC-LOCATION:America/Detroit
BEGIN:DAYLIGHT
TZOFFSETFROM:-0500
TZOFFSETTO:-0400
TZNAME:EDT
DTSTART:20070311T020000
RRULE:FREQ=YEARLY;BYMONTH=3;BYDAY=2SU
END:DAYLIGHT
BEGIN:STANDARD
TZOFFSETFROM:-0400
TZOFFSETTO:-0500
TZNAME:EST
DTSTART:20071104T020000
RRULE:FREQ=YEARLY;BYMONTH=11;BYDAY=1SU
END:STANDARD
END:VTIMEZONE
BEGIN:VEVENT
DTSTAMP:20260112T144046
DTSTART;TZID=America/Detroit:20230707T120000
DTEND;TZID=America/Detroit:20230707T123000
SUMMARY:Well-being:Heartfulness Guided Meditation
DESCRIPTION:Heartfulness Guided Meditation is a weekly\, drop-in program designed to help you Mental well-being. \n\nAll U-M students\, faculty\, and staff are welcome to participate in guided meditation practice with a trainer every Friday at noon over Zoom (details to join are provided below). No prior experience with meditation is required. \n\n*What will you learn?*\n\nThe guided meditation practice involves three simple steps: relaxation\, rejuvenation\, and meditation.\n\nRelaxation brings your body to a calm\, steady posture creating a stillness at the physical level\, and prepares the mind for meditation. We follow this with a rejuvenation method to detox the mind to let go of stress and complex emotions\, and will leave you feeling light and refreshed. Lastly\, learning to meditate by being mindful of your heart will connect you with yourself by listening to your heart’s voice. \n\n*Why Meditate?*\n\nWhile physical fitness keeps our bodies in shape\, meditation is an exercise for the mind and mental wellness. In addition to the measurable benefits mentally and physically\, many people benefit from an unquantifiable inner poise and harmony. \n\n*Please take Learn to Meditate session if you are new to the practice. These sessions are offered Monthly.* https://events.umich.edu/event/128708\n\n*Event Details*\n\nHeartfulness Guided Meditation \nFridays from 12-12:30 p.m. ET (except during university season days / holidays)\nJoin Via Zoom Meeting\nRegister to receive Passcode (see “Related links”\n\n\nThis wellness program is coordinated by ITS Teaching & Learning and provided at no cost by heartfulness.org.
UID:88544-21803341@events.umich.edu
URL:https://events.umich.edu/event/88544
CLASS:PUBLIC
STATUS:CONFIRMED
CATEGORIES:Free,Health & Wellness,Well-being
LOCATION:Off Campus Location
CONTACT:
END:VEVENT
BEGIN:VEVENT
DTSTAMP:20240111T092357
DTSTART;TZID=America/Detroit:20230707T123000
DTEND;TZID=America/Detroit:20230707T131500
SUMMARY:Presentation:Sea Monsters
DESCRIPTION:The film follows a curious and adventurous Dolichorhynchops – familiarly known as a ‘dolly’ – as she travels through the most dangerous oceans in history. Along the way\, she encounters long-necked plesiosaurs\, giant turtles\, enormous fish\, fierce sharks\, and the most dangerous sea monster of all\, the mosasaur.\n\nThe state-of-the-art Planetarium & Dome Theater at the U-M Museum of Natural History transports visitors beyond distant stars and back in time from the comfort of reclining seats. Tickets $8. Tickets are available on the day of the show at the Museum Store.\n\nThe planetarium is operating at half capacity to maximize distancing between viewers.
UID:93123-21820053@events.umich.edu
URL:https://events.umich.edu/event/93123
CLASS:PUBLIC
STATUS:CONFIRMED
CATEGORIES:natural history museum,Natural Sciences,Science
LOCATION:Museum of Natural History
CONTACT:
END:VEVENT
END:VCALENDAR