BEGIN:VCALENDAR
VERSION:2.0
PRODID:-//UM//UM*Events//EN
CALSCALE:GREGORIAN
BEGIN:VTIMEZONE
TZID:America/Detroit
TZURL:http://tzurl.org/zoneinfo/America/Detroit
X-LIC-LOCATION:America/Detroit
BEGIN:DAYLIGHT
TZOFFSETFROM:-0500
TZOFFSETTO:-0400
TZNAME:EDT
DTSTART:20070311T020000
RRULE:FREQ=YEARLY;BYMONTH=3;BYDAY=2SU
END:DAYLIGHT
BEGIN:STANDARD
TZOFFSETFROM:-0400
TZOFFSETTO:-0500
TZNAME:EST
DTSTART:20071104T020000
RRULE:FREQ=YEARLY;BYMONTH=11;BYDAY=1SU
END:STANDARD
END:VTIMEZONE
BEGIN:VEVENT
DTSTAMP:20230726T123050
DTSTART;TZID=America/Detroit:20230711T180000
DTEND;TZID=America/Detroit:20230711T184500
SUMMARY:Careers / Jobs:RBI (BK\, Popeyes\, Tims\, FH Subs) Presents: A Day in the Life ofan Operations LDP
DESCRIPTION:Have a passion for restaurant operations\, entrepreneurship\, and building an iconic brand? So do we. Which is exactly why we created our Operations Leadership Development Program. RBI has developed a 3-year Operations Leadership Development Program for third and fourth year college students that will focus on building future leaders within our Corporate Operations and Field Teams. \n\nAre you ready to run a business\, lead a team\, and drive change? Then\, come join us on July 11th at 6:00 pm EST from the comfort of your own home to hear from Seth Moyer\, Director of Burger King Restaurant Operations Training\, on what a day in the life/career path of an OLDP at Restaurant Brands International looks like.
UID:108918-21820581@events.umich.edu
URL:https://events.umich.edu/event/108918
CLASS:PUBLIC
STATUS:CONFIRMED
CATEGORIES:
LOCATION:
CONTACT:
END:VEVENT
BEGIN:VEVENT
DTSTAMP:20230711T180006
DTSTART;TZID=America/Detroit:20230711T183000
DTEND;TZID=America/Detroit:20230711T213000
SUMMARY:Other:Bachata Class
DESCRIPTION:LOCATION: the Phoenix Center at 220 S. Main St.PRICES: $10 for students\, included in monthly pass.Come join us for Bachata! No partner necessary! Please bring dance shoes or socks.6:30pm - 7:30pm : Lv 1 & 2 (aka beginners)7:30pm - 8:30pm : Social dancing (No partner necessary! All levels welcome!)8:30pm - 9:30pm : Lv 3 & 4 (Please ask one of the instructors to be placed in this level!)We hope to see you then! 
UID:108888-21820514@events.umich.edu
URL:https://events.umich.edu/event/108888
CLASS:PUBLIC
STATUS:CONFIRMED
CATEGORIES:
LOCATION:Phoenix Center
CONTACT:
END:VEVENT
END:VCALENDAR