BEGIN:VCALENDAR
VERSION:2.0
PRODID:-//UM//UM*Events//EN
CALSCALE:GREGORIAN
BEGIN:VTIMEZONE
TZID:America/Detroit
TZURL:http://tzurl.org/zoneinfo/America/Detroit
X-LIC-LOCATION:America/Detroit
BEGIN:DAYLIGHT
TZOFFSETFROM:-0500
TZOFFSETTO:-0400
TZNAME:EDT
DTSTART:20070311T020000
RRULE:FREQ=YEARLY;BYMONTH=3;BYDAY=2SU
END:DAYLIGHT
BEGIN:STANDARD
TZOFFSETFROM:-0400
TZOFFSETTO:-0500
TZNAME:EST
DTSTART:20071104T020000
RRULE:FREQ=YEARLY;BYMONTH=11;BYDAY=1SU
END:STANDARD
END:VTIMEZONE
BEGIN:VEVENT
DTSTAMP:20230613T121557
DTSTART;TZID=America/Detroit:20230711T200000
DTEND;TZID=America/Detroit:20230711T210000
SUMMARY:Performance:Spotlight Solo Recital: Kevin Sung\, violin
DESCRIPTION:Center Stage Strings (CSS)—one of SMTD’s MPulse performing arts summer programs for youth—welcomes the public to a series of live concerts\, free to attend in-person on campus or to watch from anywhere via Livestream.\n\nCSS was founded by renowned violinist and SMTD Professor Danielle Belen to develop the talents of serious young classical music students in the areas of solo and chamber music performance. Learn more at centerstagestrings.net.
UID:108459-21819614@events.umich.edu
URL:https://events.umich.edu/event/108459
CLASS:PUBLIC
STATUS:CONFIRMED
CATEGORIES:
LOCATION:Off Campus Location
CONTACT:
END:VEVENT
BEGIN:VEVENT
DTSTAMP:20230322T162747
DTSTART;TZID=America/Detroit:20230711T200000
SUMMARY:Performance:The Jerry Douglas Band
DESCRIPTION:The undisputed master of the resonator guitar\n\nDobro master and 14-time Grammy winner Jerry Douglas is a bandleader\, producer\, session musician\, instructor\, and a very funny guy! He’s produced over a hundred albums\, and he’s featured on over 1\,600 studio albums. He’s a member of Alison Kraus & Union Station\, co-bandleader for Transatlantic Sessions in the United Kingdom\, founder for the Grammy winner bluegrass supergroup The Earls of Leicester\, and he leads The Jerry Douglas Band. Since 2017\, The Jerry Douglas Band has been forging new paths into the musical horizon with deep roots in bluegrass and folk that spreads out into the Americana and jazz landscapes. In 2021\, The Jerry Douglas Band released an album\, “Leftover Feelings\,” with legendary singer songwriter John Hiatt. The album was nominated for a 2022 Grammy for Best Americana Album\, and their previous record\, “What If\, “also received a Grammy nomination for Best Contemporary Instrumental Album. The group performs at some of the top U.S. festivals such as Telluride Bluegrass Festival\, Pilgrimage Music Festival\, Big Ears Festival\, DelFest\, FreshGrass\, Grey Fox Bluegrass Festival\, Merlefest\, and many others. In addition to Douglas\, The Jerry Douglas Band includes Daniel Kimbro on bass\, Christian Sedelmyer on fiddle\, and Mike Seal on guitar.\n\nPlease visit https://mutotix.umich.edu/4005/4006 for more detail.
UID:106452-21814303@events.umich.edu
URL:https://events.umich.edu/event/106452
CLASS:PUBLIC
STATUS:CONFIRMED
CATEGORIES:Ark,Mutotix
LOCATION:ARK Reserved
CONTACT:
END:VEVENT
END:VCALENDAR