BEGIN:VCALENDAR
VERSION:2.0
PRODID:-//UM//UM*Events//EN
CALSCALE:GREGORIAN
BEGIN:VTIMEZONE
TZID:America/Detroit
TZURL:http://tzurl.org/zoneinfo/America/Detroit
X-LIC-LOCATION:America/Detroit
BEGIN:DAYLIGHT
TZOFFSETFROM:-0500
TZOFFSETTO:-0400
TZNAME:EDT
DTSTART:20070311T020000
RRULE:FREQ=YEARLY;BYMONTH=3;BYDAY=2SU
END:DAYLIGHT
BEGIN:STANDARD
TZOFFSETFROM:-0400
TZOFFSETTO:-0500
TZNAME:EST
DTSTART:20071104T020000
RRULE:FREQ=YEARLY;BYMONTH=11;BYDAY=1SU
END:STANDARD
END:VTIMEZONE
BEGIN:VEVENT
DTSTAMP:20230726T183051
DTSTART;TZID=America/Detroit:20230711T210000
DTEND;TZID=America/Detroit:20230711T223000
SUMMARY:Careers / Jobs:Morgan Stanley Asia Webinar-Introduction to Sales & Trading (Register by July 2)
DESCRIPTION:Morgan Stanley is a leading global financial services firm providing a wide range of investment banking\, securities\, wealth managementand investment management services. With offices in 42 countries\, the firm’s employees serve clients worldwide including corporations\, governments\, institutions and individuals.\n\nThe investment banking industry offers some of the most diverse career opportunities to students at the startof their career. Join us virtually for our webinar series to explore the career paths and opportunities at Morgan Stanley Asia. Students from all degree or majors are welcomed to register.\n\nInterested to explore more about our opportunities within Sales & Trading (S&T)? Participate in this webinar to meet business representatives from S&T and participate in interactive sessions to learn more about their roles at the firm. Learn from our campus recruiters about our opportunities and resources that could help you in preparing for your career and internship applications.\n\n \n\nAttendthis webinar to:\n-Gain insights into Morgan Stanley Asia\, Sales & Trading and the work we do\n-Explore the advantages and unique career opportunities the banking industry in the Asia region presents\n-Learn about the career opportunities in S&T and the skills we look for\n-Obtain S&T-specificinterview tips from our campus recruiters to better prepare for your internship applications\n-Participate in live Q&A with our representatives\n \n\nEvent details\nDate: Tuesday\, 11 July\, 2023\nTime: 9:00 p.m. – 10:30 p.m. EDT \nFormat: Virtual\nLanguage: English\n\n\nTarget Audience\nUniversity students of any degree or major graduating between October 2024 andJuly 2025.\n\n \n\nRegistration\nRegister with below link with your resume by 2 July\, 2023 (11:59 a.m. EDT  ): https://morganstanley.tal.net/vx/brand-2/candidate/so/pm/1/pl/2/opp/16215-Morgan-Stanley-Asia-Webinar-Series-Introduction-to-Sales-Trading/en-GB\n\nPlease note that the events are by invitation only. Successful registrants will receive an email confirming their slots through the email addresses provided.\n\n\nIf you have any questions\, please contact Morgan Stanley APAC Campus Recruiting at asia.recruit@morganstanley.com or Japan Campus Recruiting at Recruit.Japan@morganstanley.com.
UID:108769-21820369@events.umich.edu
URL:https://events.umich.edu/event/108769
CLASS:PUBLIC
STATUS:CONFIRMED
CATEGORIES:
LOCATION:
CONTACT:
END:VEVENT
BEGIN:VEVENT
DTSTAMP:20230727T063047
DTSTART;TZID=America/Detroit:20230712T083000
DTEND;TZID=America/Detroit:20230712T173000
SUMMARY:Careers / Jobs:Procter & Gamble Signal Event - Resetting the Bar
DESCRIPTION:If you're interested in learning from a unique blend of disruptive founders\, industry leading executives\, and inspiring thought leaders\, then Procter & Gamble's annual Signal event is the virtual summit for you! This is a great opportunity to join alongside P&G employees and industry leaders to further your professional development while also learning more about the largest CPG company in the world\, Procter & Gamble!\n\nOur theme for this year is “Reset the Bar for Superior Performance and Irresistible Innovation\,” striking a balance between navigating today’s business challenges and innovating for the future. Artificial intelligence will be a prominent topic for many sessions. But so will supply chain innovation\, employee experience\, and sustainability – all critical elementsof a successful business today and tomorrow.\n\nA critical thread throughout the 12th Annual Signal Summit will be how to deliver superior performance across business fundamentals. This requires consistent consumer focus and operational excellence\, combined with agility and adaptability. In turn\, companies create a culture where people challenge themselves and others to redefine what success looks like. \n\nFor Signal 2023 we have a line-up of great speakers who will inspire and educate us on how to reset the bar:\n\nSumit Agarwal CEO & Co-founder · Gather \nJohn Battelle Author\, Entrepreneur\, & Host \nLinda Boff CMO · GE \nJodi Caden Co-founder and CEO · Proof \nLuis Carrillo VP\, Business Development · FEMSA \nYael Cosset CIO & Chief Digital Officer · Kroger \nMorgan Flatley CMO · McDonald’s \nJeremi Gorman President\, Worldwide Advertising · Netflix \nCandice Matthews Brackeen Founder & CEO · Lightship Foundation \nNicola Mendelsohn VP\, Global Business Group · Meta \nJon Moeller Chairman of the Board\, President & CEO · P&G \nMatias Muchnick Founder & CEO · NotCo \nJavier Pita CEO · NaviLens \nMarc Pritchard Chief Brand Officer · P&G \nArthur Sadoun  CEO · Publicis Global \nJo Shoesmith Chief Creative Officer ·Amazon/ Evan Spiegel CEO · SNAP \nJulie Sweet CEO · Accenture \nColin Walsh CEO · OUAI Haircare\n\nSignal registration for Students is now open.If you are interested in joining Signal please submit a registration request here. In the area that asks for your company\, please put your university! We will reach out with details when your request is accepted.
UID:108929-21820604@events.umich.edu
URL:https://events.umich.edu/event/108929
CLASS:PUBLIC
STATUS:CONFIRMED
CATEGORIES:
LOCATION:
CONTACT:
END:VEVENT
END:VCALENDAR