BEGIN:VCALENDAR
VERSION:2.0
PRODID:-//UM//UM*Events//EN
CALSCALE:GREGORIAN
BEGIN:VTIMEZONE
TZID:America/Detroit
TZURL:http://tzurl.org/zoneinfo/America/Detroit
X-LIC-LOCATION:America/Detroit
BEGIN:DAYLIGHT
TZOFFSETFROM:-0500
TZOFFSETTO:-0400
TZNAME:EDT
DTSTART:20070311T020000
RRULE:FREQ=YEARLY;BYMONTH=3;BYDAY=2SU
END:DAYLIGHT
BEGIN:STANDARD
TZOFFSETFROM:-0400
TZOFFSETTO:-0500
TZNAME:EST
DTSTART:20071104T020000
RRULE:FREQ=YEARLY;BYMONTH=11;BYDAY=1SU
END:STANDARD
END:VTIMEZONE
BEGIN:VEVENT
DTSTAMP:20230524T141141
DTSTART;TZID=America/Detroit:20230712T090000
DTEND;TZID=America/Detroit:20230712T200000
SUMMARY:Exhibition:Selections from the Special Collections Research Center
DESCRIPTION:Enjoy a selection of materials from the Special Collections Research Center\, from 16th century woodcuts of military weapons and devices\, to lithographs of 19th century Parisian prison\, to a 20th century manuscript poem by poet Robert Hayden.\n\nAvailable during Hatcher Gallery Exhibit Room hours (https://myumi.ch/2m7d4).
UID:108321-21819329@events.umich.edu
URL:https://events.umich.edu/event/108321
CLASS:PUBLIC
STATUS:CONFIRMED
CATEGORIES:Books,Exhibition,Free,Library
LOCATION:Hatcher Graduate Library - Hatcher Gallery Exhibit Room
CONTACT:
END:VEVENT
BEGIN:VEVENT
DTSTAMP:20231004T085644
DTSTART;TZID=America/Detroit:20230712T093000
DTEND;TZID=America/Detroit:20230712T103000
SUMMARY:Social / Informal Gathering:ChE Historic Free Bagel Wednesday
DESCRIPTION:Historic Free Bagel Wednesday is a bagel and coffee hour hosted by the Chemical Engineering Graduate Society (ChEGS) and is held every other Wednesday. The event was part of the original ChEGS charter and is now one of many social events run by ChEGS throughout the year. \n\nThe event is open to all chemical engineering graduate students\, faculty\, post-docs\, and staff. \n\nTo help reduce waste\, if you have one\, please plan to bring your own mug or reusable coffee cup.
UID:97364-21794471@events.umich.edu
URL:https://events.umich.edu/event/97364
CLASS:PUBLIC
STATUS:CONFIRMED
CATEGORIES:chemical engineering,Graduate
LOCATION:North Campus Research Complex Building 10 - Lobby or Courtyard
CONTACT:
END:VEVENT
END:VCALENDAR