BEGIN:VCALENDAR
VERSION:2.0
PRODID:-//UM//UM*Events//EN
CALSCALE:GREGORIAN
BEGIN:VTIMEZONE
TZID:America/Detroit
TZURL:http://tzurl.org/zoneinfo/America/Detroit
X-LIC-LOCATION:America/Detroit
BEGIN:DAYLIGHT
TZOFFSETFROM:-0500
TZOFFSETTO:-0400
TZNAME:EDT
DTSTART:20070311T020000
RRULE:FREQ=YEARLY;BYMONTH=3;BYDAY=2SU
END:DAYLIGHT
BEGIN:STANDARD
TZOFFSETFROM:-0400
TZOFFSETTO:-0500
TZNAME:EST
DTSTART:20071104T020000
RRULE:FREQ=YEARLY;BYMONTH=11;BYDAY=1SU
END:STANDARD
END:VTIMEZONE
BEGIN:VEVENT
DTSTAMP:20230628T113933
DTSTART;TZID=America/Detroit:20230712T110000
DTEND;TZID=America/Detroit:20230712T120000
SUMMARY:Conference / Symposium:Become a UROP Symposium Judge
DESCRIPTION:Become a judge at our Research Symposium this upcoming spring on April 19th 2023. The Spring Symposium will host around 980 presenters across the U-M campus. Support this event by helping award blue ribbons to students who give outstanding research presentations.
UID:108917-21820568@events.umich.edu
URL:https://events.umich.edu/event/108917
CLASS:PUBLIC
STATUS:CONFIRMED
CATEGORIES:Social Justice,Prospective Undergraduate Students,Public Health,Research,research data,Social Impact,AEM Featured,Social Sciences,symposium,The College Of Literature\, Science\, And The Arts,Urop,Women's Studies,Professional Development,Engineering,Environment,Faculty,Free,Graduate and Professional Students,Humanities,Interdisciplinary,Leadership,Mentorship,Networking
LOCATION:Michigan League - Ballroom
CONTACT:
END:VEVENT
BEGIN:VEVENT
DTSTAMP:20230727T063047
DTSTART;TZID=America/Detroit:20230712T110000
DTEND;TZID=America/Detroit:20230712T160000
SUMMARY:Careers / Jobs:CAREERS & the disABLED Virtual Career Fair -July 12 2023- The University of Michigan
DESCRIPTION:Employers from Fortune 500 companies and government agencies interested in recruiting people with disabilities (including veterans)\, ranging from current college students and recent college graduates to professionals with backgrounds in all career disciplines. It's FREE for job seekers to attend.
UID:108927-21820602@events.umich.edu
URL:https://events.umich.edu/event/108927
CLASS:PUBLIC
STATUS:CONFIRMED
CATEGORIES:
LOCATION:
CONTACT:
END:VEVENT
END:VCALENDAR