BEGIN:VCALENDAR
VERSION:2.0
PRODID:-//UM//UM*Events//EN
CALSCALE:GREGORIAN
BEGIN:VTIMEZONE
TZID:America/Detroit
TZURL:http://tzurl.org/zoneinfo/America/Detroit
X-LIC-LOCATION:America/Detroit
BEGIN:DAYLIGHT
TZOFFSETFROM:-0500
TZOFFSETTO:-0400
TZNAME:EDT
DTSTART:20070311T020000
RRULE:FREQ=YEARLY;BYMONTH=3;BYDAY=2SU
END:DAYLIGHT
BEGIN:STANDARD
TZOFFSETFROM:-0400
TZOFFSETTO:-0500
TZNAME:EST
DTSTART:20071104T020000
RRULE:FREQ=YEARLY;BYMONTH=11;BYDAY=1SU
END:STANDARD
END:VTIMEZONE
BEGIN:VEVENT
DTSTAMP:20230727T063042
DTSTART;TZID=America/Detroit:20230712T120000
DTEND;TZID=America/Detroit:20230712T130000
SUMMARY:Careers / Jobs:Campus Event: Learn about the intern experience at the World Leader in Lighting!
DESCRIPTION:Signify is currently recruiting for a number of Internships across the United States including our locations in New Jersey\, Massachusetts\, California\, Illinois\, Texas\, and more! Join this virtual event to hear from a panel of employees including interns and interns who transitioned to full-time roles. Panelists will share what it is like to intern at Signify\, give insights on the program\, and tips on how to make the most out of any internship experience.
UID:108437-21819590@events.umich.edu
URL:https://events.umich.edu/event/108437
CLASS:PUBLIC
STATUS:CONFIRMED
CATEGORIES:
LOCATION:
CONTACT:
END:VEVENT
BEGIN:VEVENT
DTSTAMP:20240116T141648
DTSTART;TZID=America/Detroit:20230712T120000
DTEND;TZID=America/Detroit:20230712T123000
SUMMARY:Well-being:North Campus Mindfulness Meditation Drop-In (Online)
DESCRIPTION:Take a moment to create some space to breathe and invite a sense of calm into your day. This is a guided mindfulness meditation drop-in session. No experience necessary. Free and open to all. \n\nEmail dmitryb@umich.edu to sign up for the mailing list. You will receive a weekly reminder with the zoom link. Also\, you can add the sessions to your Google Calendar: https://tinyurl.com/y3kbkwd6
UID:40967-21818408@events.umich.edu
URL:https://events.umich.edu/event/40967
CLASS:PUBLIC
STATUS:CONFIRMED
CATEGORIES:Health & Wellness,Meditation,Mindfulness,Mindfulness\, Meditation,North campus,Stress Reduction,Virtual,Well-being
LOCATION:Off Campus Location
CONTACT:
END:VEVENT
END:VCALENDAR