BEGIN:VCALENDAR
VERSION:2.0
PRODID:-//UM//UM*Events//EN
CALSCALE:GREGORIAN
BEGIN:VTIMEZONE
TZID:America/Detroit
TZURL:http://tzurl.org/zoneinfo/America/Detroit
X-LIC-LOCATION:America/Detroit
BEGIN:DAYLIGHT
TZOFFSETFROM:-0500
TZOFFSETTO:-0400
TZNAME:EDT
DTSTART:20070311T020000
RRULE:FREQ=YEARLY;BYMONTH=3;BYDAY=2SU
END:DAYLIGHT
BEGIN:STANDARD
TZOFFSETFROM:-0400
TZOFFSETTO:-0500
TZNAME:EST
DTSTART:20071104T020000
RRULE:FREQ=YEARLY;BYMONTH=11;BYDAY=1SU
END:STANDARD
END:VTIMEZONE
BEGIN:VEVENT
DTSTAMP:20240405T194239
DTSTART;TZID=America/Detroit:20230707T143000
DTEND;TZID=America/Detroit:20230707T151500
SUMMARY:Presentation:We Are Stars
DESCRIPTION:What are we made of? Where did it all come from? Explore the secrets of our cosmic chemistry and our explosive origins. Connect life on Earth to the evolution of the Universe by following the formation of hydrogen atoms to the synthesis of carbon\, and the molecules for life.\n\nThe state-of-the-art Planetarium & Dome Theater at the U-M Museum of Natural History transports visitors beyond distant stars and back in time from the comfort of reclining seats. Tickets $8. Tickets are available on the day of the show at the Museum Store.
UID:108577-21820146@events.umich.edu
URL:https://events.umich.edu/event/108577
CLASS:PUBLIC
STATUS:CONFIRMED
CATEGORIES:Astronomy,Museum,Natural Sciences,Science
LOCATION:Museum of Natural History
CONTACT:
END:VEVENT
BEGIN:VEVENT
DTSTAMP:20230707T121644
DTSTART;TZID=America/Detroit:20230707T190000
DTEND;TZID=America/Detroit:20230707T205500
SUMMARY:Performance:Young Artist Concert Series
DESCRIPTION:Center Stage Strings (CSS)—one of SMTD’s MPulse performing arts summer programs for youth—welcomes the public to a series of live concerts\, free to attend in-person on campus or to watch from anywhere via Livestream.\n\nCSS was founded by renowned violinist and SMTD Professor Danielle Belen to develop the talents of serious young classical music students in the areas of solo and chamber music performance. Learn more at centerstagestrings.net.
UID:108463-21819618@events.umich.edu
URL:https://events.umich.edu/event/108463
CLASS:PUBLIC
STATUS:CONFIRMED
CATEGORIES:
LOCATION:Off Campus Location
CONTACT:
END:VEVENT
END:VCALENDAR