BEGIN:VCALENDAR
VERSION:2.0
PRODID:-//UM//UM*Events//EN
CALSCALE:GREGORIAN
BEGIN:VTIMEZONE
TZID:America/Detroit
TZURL:http://tzurl.org/zoneinfo/America/Detroit
X-LIC-LOCATION:America/Detroit
BEGIN:DAYLIGHT
TZOFFSETFROM:-0500
TZOFFSETTO:-0400
TZNAME:EDT
DTSTART:20070311T020000
RRULE:FREQ=YEARLY;BYMONTH=3;BYDAY=2SU
END:DAYLIGHT
BEGIN:STANDARD
TZOFFSETFROM:-0400
TZOFFSETTO:-0500
TZNAME:EST
DTSTART:20071104T020000
RRULE:FREQ=YEARLY;BYMONTH=11;BYDAY=1SU
END:STANDARD
END:VTIMEZONE
BEGIN:VEVENT
DTSTAMP:20240405T194239
DTSTART;TZID=America/Detroit:20230712T143000
DTEND;TZID=America/Detroit:20230712T151500
SUMMARY:Presentation:We Are Stars
DESCRIPTION:What are we made of? Where did it all come from? Explore the secrets of our cosmic chemistry and our explosive origins. Connect life on Earth to the evolution of the Universe by following the formation of hydrogen atoms to the synthesis of carbon\, and the molecules for life.\n\nThe state-of-the-art Planetarium & Dome Theater at the U-M Museum of Natural History transports visitors beyond distant stars and back in time from the comfort of reclining seats. Tickets $8. Tickets are available on the day of the show at the Museum Store.
UID:108577-21820151@events.umich.edu
URL:https://events.umich.edu/event/108577
CLASS:PUBLIC
STATUS:CONFIRMED
CATEGORIES:Astronomy,Museum,Natural Sciences,Science
LOCATION:Museum of Natural History
CONTACT:
END:VEVENT
BEGIN:VEVENT
DTSTAMP:20230727T123049
DTSTART;TZID=America/Detroit:20230712T153000
DTEND;TZID=America/Detroit:20230712T173000
SUMMARY:Careers / Jobs:Elastic Meetup: Generative AI meets Elastic: Vector and Hybrid Search
DESCRIPTION:Join us on Wednesday\, July 12th\, at Venture X Richmond for an in-person meetup. Kent Brake (Senior Principal Solutions Architect at Elastic) will present on Vector Search\, followed by networking\, pizza\, and refreshments. A great opportunity to learn about Elastic and connect with industry leaders. \n\nRSVP Here: https://community.elastic.co/events/details/elastic-richmond-presents-generative-ai-meets-elastic-vector-and-hybrid-search/\n\nTalk Abstract:\n\nElasticsearch: Vector and Hybrid Search - Kent Brake\, Senior Principal Solutions Architect at Elastic\n\nSearch is not just traditional TF/IDF anymore: the current trend of machine learningand models has opened another dimension for search. This talk gives an overview of:\n\n“Classic” search and its limitations\nWhat is a model and how you can use it\nHow to use vector search or hybrid search in Elasticsearch\nWhere OpenAI’s ChatGPT or similar LLMs come into play with Elastic\n\nAgenda: \n5:30 pm: Doors open\; say hi\, grab a seat\, and eat some food.\n6:00 pm: Kent Brake's (Senior Principal Solutions Architect at  Elastic) presentation on Vector Search\n6:45 pm - 7:30 pm: Networking & refreshments\n7:30 pm: Event ends\n\nRSVP: https://community.elastic.co/events/details/elastic-richmond-presents-generative-ai-meets-elastic-vector-and-hybrid-search/
UID:108862-21820491@events.umich.edu
URL:https://events.umich.edu/event/108862
CLASS:PUBLIC
STATUS:CONFIRMED
CATEGORIES:
LOCATION:1806 Summit Avenue, Richmond, Virginia 23230, United States
CONTACT:
END:VEVENT
END:VCALENDAR