BEGIN:VCALENDAR
VERSION:2.0
PRODID:-//UM//UM*Events//EN
CALSCALE:GREGORIAN
BEGIN:VTIMEZONE
TZID:America/Detroit
TZURL:http://tzurl.org/zoneinfo/America/Detroit
X-LIC-LOCATION:America/Detroit
BEGIN:DAYLIGHT
TZOFFSETFROM:-0500
TZOFFSETTO:-0400
TZNAME:EDT
DTSTART:20070311T020000
RRULE:FREQ=YEARLY;BYMONTH=3;BYDAY=2SU
END:DAYLIGHT
BEGIN:STANDARD
TZOFFSETFROM:-0400
TZOFFSETTO:-0500
TZNAME:EST
DTSTART:20071104T020000
RRULE:FREQ=YEARLY;BYMONTH=11;BYDAY=1SU
END:STANDARD
END:VTIMEZONE
BEGIN:VEVENT
DTSTAMP:20230627T165155
DTSTART;TZID=America/Detroit:20230712T160000
DTEND;TZID=America/Detroit:20230712T170000
SUMMARY:Tours:Guided Tour of the Clements Library
DESCRIPTION:We invite you to join us on a guided tour where you can delve deeper into the rich tapestry of Clements' early American history and culture collections. Experience the allure of our esteemed treasures\, including the legendary painting \"Death of General Wolfe\" by Benjamin West\, a remarkable trunk from the Revolutionary War era that once safeguarded General Gage's papers\, and much more!\n\nYou will also have the opportunity to explore the Clements' Centennial exhibit titled \"Building on a Century of Collecting at the Clements Library.\" This extraordinary exhibition aims to address a question frequently posed by our visitors: How does the Clements Library determine which materials to acquire and include in its cherished collections?\n\nPlease register at myumi.ch/Aw9Zb.
UID:108902-21820533@events.umich.edu
URL:https://events.umich.edu/event/108902
CLASS:PUBLIC
STATUS:CONFIRMED
CATEGORIES:american culture,american history,art history,Centennial,Family,history,Humanities,In Person,libraries,native american history,Tour
LOCATION:William Clements Library
CONTACT:
END:VEVENT
BEGIN:VEVENT
DTSTAMP:20230727T123052
DTSTART;TZID=America/Detroit:20230712T160000
DTEND;TZID=America/Detroit:20230712T180000
SUMMARY:Careers / Jobs:PGCPS Hiring Palooza ~ July 12th
DESCRIPTION:Greetings from Prince George’s County Public Schools! \n\nWere you able to join us at the June ‘Hiring Palooza’? If not\, you missed a great opportunity to network human resources personnel\, hiring managers and over 100 PGCPS school leaders\, not to mention the snowcone truck!   \n\nThe good news is we are hosting another ‘Hiring Palooza!’ event On Wednesday\, July 12th from 4:00 pm to 6:00 pm at Dr. Henry A. Wise\, Jr. High School (12650 Brooke Ln\, Upper Marlboro\, MD 20772). Join us to find out what makes PGCPS a great place to work!\n
UID:109000-21820704@events.umich.edu
URL:https://events.umich.edu/event/109000
CLASS:PUBLIC
STATUS:CONFIRMED
CATEGORIES:
LOCATION:12650 Brooke Lane, Upper Marlboro, Maryland 20772, United States
CONTACT:
END:VEVENT
END:VCALENDAR