BEGIN:VCALENDAR
VERSION:2.0
PRODID:-//UM//UM*Events//EN
CALSCALE:GREGORIAN
BEGIN:VTIMEZONE
TZID:America/Detroit
TZURL:http://tzurl.org/zoneinfo/America/Detroit
X-LIC-LOCATION:America/Detroit
BEGIN:DAYLIGHT
TZOFFSETFROM:-0500
TZOFFSETTO:-0400
TZNAME:EDT
DTSTART:20070311T020000
RRULE:FREQ=YEARLY;BYMONTH=3;BYDAY=2SU
END:DAYLIGHT
BEGIN:STANDARD
TZOFFSETFROM:-0400
TZOFFSETTO:-0500
TZNAME:EST
DTSTART:20071104T020000
RRULE:FREQ=YEARLY;BYMONTH=11;BYDAY=1SU
END:STANDARD
END:VTIMEZONE
BEGIN:VEVENT
DTSTAMP:20230727T123046
DTSTART;TZID=America/Detroit:20230712T160000
DTEND;TZID=America/Detroit:20230712T170000
SUMMARY:Careers / Jobs:USA - Campus - Meet EY: General Information Session & Panel
DESCRIPTION:Come join us to learn more about EY\, our service lines\, practices and overall culture. This session will host a panel of with EY stafffrom Assurance\, Consulting\, Strategy and Transactions\, and Tax. Our EYcampus recruiters will close out with recruiting reminders and resources.Bring your questions!
UID:108395-21819536@events.umich.edu
URL:https://events.umich.edu/event/108395
CLASS:PUBLIC
STATUS:CONFIRMED
CATEGORIES:
LOCATION:
CONTACT:
END:VEVENT
BEGIN:VEVENT
DTSTAMP:20230727T123039
DTSTART;TZID=America/Detroit:20230712T170000
DTEND;TZID=America/Detroit:20230712T173000
SUMMARY:Careers / Jobs:Acing Your Application: VFA Summer Series
DESCRIPTION:Join us to learn all about the Venture For America Fellowship and learn all the tips and tricks to putting together an incredible application.\n\nVenture For America aims to mobilize the next generation of entrepreneurs and equip them with experience\, training\, and community to become startup leaders and founders. During the two-year Fellowship\, our Fellows are salaried\, full-time employees at startups or high-growth companies in one of our 13 cities.\n\nThrough the program\, Fellows find lifelongfriends\, an entrepreneurial community\, and a network of individuals to help take their career and ambitions to the next level. We’ll walk you through our mission\, how Fellows find their job\, plus the programming\, community\, and resources\, followed by all the ways to put together a competitive application. Plus hear from our very own Senior Selection Associate\, Michala Barnes!
UID:107957-21818630@events.umich.edu
URL:https://events.umich.edu/event/107957
CLASS:PUBLIC
STATUS:CONFIRMED
CATEGORIES:
LOCATION:
CONTACT:
END:VEVENT
END:VCALENDAR