BEGIN:VCALENDAR
VERSION:2.0
PRODID:-//UM//UM*Events//EN
CALSCALE:GREGORIAN
BEGIN:VTIMEZONE
TZID:America/Detroit
TZURL:http://tzurl.org/zoneinfo/America/Detroit
X-LIC-LOCATION:America/Detroit
BEGIN:DAYLIGHT
TZOFFSETFROM:-0500
TZOFFSETTO:-0400
TZNAME:EDT
DTSTART:20070311T020000
RRULE:FREQ=YEARLY;BYMONTH=3;BYDAY=2SU
END:DAYLIGHT
BEGIN:STANDARD
TZOFFSETFROM:-0400
TZOFFSETTO:-0500
TZNAME:EST
DTSTART:20071104T020000
RRULE:FREQ=YEARLY;BYMONTH=11;BYDAY=1SU
END:STANDARD
END:VTIMEZONE
BEGIN:VEVENT
DTSTAMP:20230727T123044
DTSTART;TZID=America/Detroit:20230712T170000
DTEND;TZID=America/Detroit:20230712T180000
SUMMARY:Careers / Jobs:Discover Vanguard IMDP: Choosing your First Employer
DESCRIPTION:In this one hour session\, we will go over how to navigate your career search\, and what you should be on the lookout for when choosing your first employer. Join our recruiters as we uncover what sets Vanguard apart whether through how we embrace a diverse atmosphere\, provide industry-leading benefits\, or empower continuous professional development. Additionally\, we will feature our full-time rotational opportunities for those who strive to pursue investment analytics\, trading\, research\, and more with a company that's changing the way the world invests! Together\, we make it count.\n\nThis is the first installment of our four-part event series to provide information about the Investment Management Development Program\, how to navigate our application and interview processes\, and to introduce interested students with our business leaders. This role\, as wellas our paid College to Corporate Investment Management Internship\, will be accepting applications for our Malvern\, PA headquarters for Summer 2024 starting in June.\n\nThis virtual event is open to all undergraduate students\, and attendance to all four installments is not required.\n\nWe look forward to meeting you!
UID:108330-21819358@events.umich.edu
URL:https://events.umich.edu/event/108330
CLASS:PUBLIC
STATUS:CONFIRMED
CATEGORIES:
LOCATION:
CONTACT:
END:VEVENT
BEGIN:VEVENT
DTSTAMP:20230614T084602
DTSTART;TZID=America/Detroit:20230712T170000
DTEND;TZID=America/Detroit:20230712T190000
SUMMARY:Social / Informal Gathering:Trivia at the TSC
DESCRIPTION:Join the Transfer Student Ambassadors for an exciting evening of trivia! Come by yourself or with a team. Music\, snacks\, and good vibes provided!
UID:108686-21820285@events.umich.edu
URL:https://events.umich.edu/event/108686
CLASS:PUBLIC
STATUS:CONFIRMED
CATEGORIES:Transfer Students
LOCATION:LSA Building - 1180 (Transfer Student Center)
CONTACT:
END:VEVENT
END:VCALENDAR