BEGIN:VCALENDAR
VERSION:2.0
PRODID:-//UM//UM*Events//EN
CALSCALE:GREGORIAN
BEGIN:VTIMEZONE
TZID:America/Detroit
TZURL:http://tzurl.org/zoneinfo/America/Detroit
X-LIC-LOCATION:America/Detroit
BEGIN:DAYLIGHT
TZOFFSETFROM:-0500
TZOFFSETTO:-0400
TZNAME:EDT
DTSTART:20070311T020000
RRULE:FREQ=YEARLY;BYMONTH=3;BYDAY=2SU
END:DAYLIGHT
BEGIN:STANDARD
TZOFFSETFROM:-0400
TZOFFSETTO:-0500
TZNAME:EST
DTSTART:20071104T020000
RRULE:FREQ=YEARLY;BYMONTH=11;BYDAY=1SU
END:STANDARD
END:VTIMEZONE
BEGIN:VEVENT
DTSTAMP:20230727T123042
DTSTART;TZID=America/Detroit:20230712T173000
DTEND;TZID=America/Detroit:20230712T190000
SUMMARY:Careers / Jobs:Business Case Interview Overview & Workshop + Recruiter Q&A
DESCRIPTION:\"During this workshop\, we will walk through and practice a business case interview. This session will be led by a Capital One professional trained in our interview process. A recruiter will also be on the callto answer any questions you may have. This workshop is intended to help candidates prepare for the following Student & Grad roles: Business Analyst\, CODA\, Cyber\, Data Analyst\, Finance\, Human Resources\, Management\, MBA & Product.\n\nEvent Agenda:\n\n5:30 – 6:30 PM EST Business Case Interview Overview & Workshop\n\n6:00 – 7:00 PM EST Q&A breakout room with recruiter available\"
UID:108586-21820177@events.umich.edu
URL:https://events.umich.edu/event/108586
CLASS:PUBLIC
STATUS:CONFIRMED
CATEGORIES:
LOCATION:
CONTACT:
END:VEVENT
BEGIN:VEVENT
DTSTAMP:20230712T172014
DTSTART;TZID=America/Detroit:20230712T173000
DTEND;TZID=America/Detroit:20230712T184500
SUMMARY:Workshop / Seminar:M-CLIC's 2023 Virtual Summer Series presents...Introduction to Financial Literacy
DESCRIPTION:The Men of Color Leading in the Classroom program (M-CLIC) presents the 2023 Virtual CLIC Summer Series! This relaxed\, unique\, informative\, and safe-spaced virtual experience is open to the entire community! \n\"Introduction to Financial Literacy\"Strong financial literacy ensures we respond properly when things change in an uncertain economic environment. Join us for the 2023 Virtual CLIC Summer Series workshop kickoff with Dr. Damon P. Williams\, Associate Dean for Inclusive Excellence\, Georgia Tech\, as we discuss plans for debt eradication\, credit building\, and budgeting and saving. This session is part one of three financial literacy workshops hosted by M-CLIC. Other virtual workshops will be announced this summer.The mission of Men of Color Leading In the Classroom (M-CLIC) is to increase and impact the number of African American\, Latino\, Native\, and Asian males entering the teaching profession. However\, this Virtual CLIC Summer Series workshop is open to all attendees of any race or gender interested in summer learning. M-CLIC...Spark The Mind That Change The World!M-CLIC is funded through the Morris Hood\, Jr. Educator Development (MHED) program\, created by the Michigan State Legislature in 1998 as part of the larger King-Chávez-Parks Initiative. The legislative intent is to increase the number of underrepresented students\, especially males\, who enroll in and complete K-12 teacher education programs at the baccalaureate level at state-approved teacher education institutions. The MHED program targets African American\, Latino\, and Native American students who historically have been underrepresented in K-12 teacher education program.
UID:109016-21820725@events.umich.edu
URL:https://events.umich.edu/event/109016
CLASS:PUBLIC
STATUS:CONFIRMED
CATEGORIES:Sessions
LOCATION:
CONTACT:
END:VEVENT
END:VCALENDAR