BEGIN:VCALENDAR
VERSION:2.0
PRODID:-//UM//UM*Events//EN
CALSCALE:GREGORIAN
BEGIN:VTIMEZONE
TZID:America/Detroit
TZURL:http://tzurl.org/zoneinfo/America/Detroit
X-LIC-LOCATION:America/Detroit
BEGIN:DAYLIGHT
TZOFFSETFROM:-0500
TZOFFSETTO:-0400
TZNAME:EDT
DTSTART:20070311T020000
RRULE:FREQ=YEARLY;BYMONTH=3;BYDAY=2SU
END:DAYLIGHT
BEGIN:STANDARD
TZOFFSETFROM:-0400
TZOFFSETTO:-0500
TZNAME:EST
DTSTART:20071104T020000
RRULE:FREQ=YEARLY;BYMONTH=11;BYDAY=1SU
END:STANDARD
END:VTIMEZONE
BEGIN:VEVENT
DTSTAMP:20230727T123039
DTSTART;TZID=America/Detroit:20230712T173000
DTEND;TZID=America/Detroit:20230712T181500
SUMMARY:Careers / Jobs:Support student success and your professional development with City Year
DESCRIPTION:Discover if a year of service in the classroom supporting student growth is right for you. Join this 45-minute-long virtual info sessionand Q&A to learn about City Year and the transferable skills you will gain working with us.
UID:107929-21818431@events.umich.edu
URL:https://events.umich.edu/event/107929
CLASS:PUBLIC
STATUS:CONFIRMED
CATEGORIES:
LOCATION:
CONTACT:
END:VEVENT
BEGIN:VEVENT
DTSTAMP:20230727T183050
DTSTART;TZID=America/Detroit:20230712T180000
DTEND;TZID=America/Detroit:20230712T190000
SUMMARY:Careers / Jobs:Join Our Team in Alaska to Teach Above the Arctic Circle!
DESCRIPTION:Great benefits\, great salary\, help with your move! Learn more about this unique opportunity! Don't pass this up!
UID:108921-21820584@events.umich.edu
URL:https://events.umich.edu/event/108921
CLASS:PUBLIC
STATUS:CONFIRMED
CATEGORIES:
LOCATION:
CONTACT:
END:VEVENT
END:VCALENDAR