BEGIN:VCALENDAR
VERSION:2.0
PRODID:-//UM//UM*Events//EN
CALSCALE:GREGORIAN
BEGIN:VTIMEZONE
TZID:America/Detroit
TZURL:http://tzurl.org/zoneinfo/America/Detroit
X-LIC-LOCATION:America/Detroit
BEGIN:DAYLIGHT
TZOFFSETFROM:-0500
TZOFFSETTO:-0400
TZNAME:EDT
DTSTART:20070311T020000
RRULE:FREQ=YEARLY;BYMONTH=3;BYDAY=2SU
END:DAYLIGHT
BEGIN:STANDARD
TZOFFSETFROM:-0400
TZOFFSETTO:-0500
TZNAME:EST
DTSTART:20071104T020000
RRULE:FREQ=YEARLY;BYMONTH=11;BYDAY=1SU
END:STANDARD
END:VTIMEZONE
BEGIN:VEVENT
DTSTAMP:20230712T180003
DTSTART;TZID=America/Detroit:20230712T190000
DTEND;TZID=America/Detroit:20230712T210000
SUMMARY:Exercise / Fitness:Bujinkan Budo Training Session
DESCRIPTION:During the Spring/Summer 2023 semester\, Bujinkan Budo Club training will be held on Wednesdays from 19:00 - 21:00 at the Intramural Sports Building (IMSB) in Room MPR B.--For more information\, email us at michiganbujinkan@gmail.com or checkout our website\, which also includes a training schedule!
UID:106952-21815042@events.umich.edu
URL:https://events.umich.edu/event/106952
CLASS:PUBLIC
STATUS:CONFIRMED
CATEGORIES:
LOCATION:Intramural Sports Building
CONTACT:
END:VEVENT
BEGIN:VEVENT
DTSTAMP:20230116T124211
DTSTART;TZID=America/Detroit:20230712T200000
SUMMARY:Performance:The High Kings
DESCRIPTION:Celtic folk and pop with incredible instrumental versatility\n \nNamed Ireland's Folk Band of the Year\, The High Kings all grew up in households soaked in the Irish musical tradition\, and each member of the band witnessed firsthand the power of well-crafted Irish music on an audience. They have sold out hundreds of shows\, in Ireland and the U.S.\, made numerous TV appearances\, and achieved platinum status twice. The High Kings showcase their incredible versatility and skills as multi-instrumentalists\, playing 13 instruments between them bringing a rousing acoustic flavor to brand-new songs as well as some old favorites. The High Kings are continuing to live up to their reputation as a phenomenal live band\, serving up laughter\, good times\, and even the odd sing-along. They are\, quite simply\, one of the great bands in Celtic music.\n\nPlease visit https://mutotix.umich.edu/3817/3818 for more detail.
UID:103478-21807317@events.umich.edu
URL:https://events.umich.edu/event/103478
CLASS:PUBLIC
STATUS:CONFIRMED
CATEGORIES:Ark,Mutotix
LOCATION:ARK Reserved
CONTACT:
END:VEVENT
END:VCALENDAR