BEGIN:VCALENDAR
VERSION:2.0
PRODID:-//UM//UM*Events//EN
CALSCALE:GREGORIAN
BEGIN:VTIMEZONE
TZID:America/Detroit
TZURL:http://tzurl.org/zoneinfo/America/Detroit
X-LIC-LOCATION:America/Detroit
BEGIN:DAYLIGHT
TZOFFSETFROM:-0500
TZOFFSETTO:-0400
TZNAME:EDT
DTSTART:20070311T020000
RRULE:FREQ=YEARLY;BYMONTH=3;BYDAY=2SU
END:DAYLIGHT
BEGIN:STANDARD
TZOFFSETFROM:-0400
TZOFFSETTO:-0500
TZNAME:EST
DTSTART:20071104T020000
RRULE:FREQ=YEARLY;BYMONTH=11;BYDAY=1SU
END:STANDARD
END:VTIMEZONE
BEGIN:VEVENT
DTSTAMP:20230524T141141
DTSTART;TZID=America/Detroit:20230713T090000
DTEND;TZID=America/Detroit:20230713T200000
SUMMARY:Exhibition:Selections from the Special Collections Research Center
DESCRIPTION:Enjoy a selection of materials from the Special Collections Research Center\, from 16th century woodcuts of military weapons and devices\, to lithographs of 19th century Parisian prison\, to a 20th century manuscript poem by poet Robert Hayden.\n\nAvailable during Hatcher Gallery Exhibit Room hours (https://myumi.ch/2m7d4).
UID:108321-21819330@events.umich.edu
URL:https://events.umich.edu/event/108321
CLASS:PUBLIC
STATUS:CONFIRMED
CATEGORIES:Books,Exhibition,Free,Library
LOCATION:Hatcher Graduate Library - Hatcher Gallery Exhibit Room
CONTACT:
END:VEVENT
BEGIN:VEVENT
DTSTAMP:20230728T063049
DTSTART;TZID=America/Detroit:20230713T100000
DTEND;TZID=America/Detroit:20230713T140000
SUMMARY:Careers / Jobs:NYC H+H/ Kings County- Nursing Recruitment Event
DESCRIPTION:Join us at Kings County Hospital for our Nursing Recruitment Event. We are hiring for Staff Nurse for all units and tours.\n\nFore more information\, please visit the link: https://www.nychealthandhospitals.org/events/kings-county-nursing-recruitment-event-staff-nurse/
UID:108896-21820523@events.umich.edu
URL:https://events.umich.edu/event/108896
CLASS:PUBLIC
STATUS:CONFIRMED
CATEGORIES:
LOCATION:451 Clarkson Avenue, Brooklyn, New York 11203, United States
CONTACT:
END:VEVENT
END:VCALENDAR