BEGIN:VCALENDAR
VERSION:2.0
PRODID:-//UM//UM*Events//EN
CALSCALE:GREGORIAN
BEGIN:VTIMEZONE
TZID:America/Detroit
TZURL:http://tzurl.org/zoneinfo/America/Detroit
X-LIC-LOCATION:America/Detroit
BEGIN:DAYLIGHT
TZOFFSETFROM:-0500
TZOFFSETTO:-0400
TZNAME:EDT
DTSTART:20070311T020000
RRULE:FREQ=YEARLY;BYMONTH=3;BYDAY=2SU
END:DAYLIGHT
BEGIN:STANDARD
TZOFFSETFROM:-0400
TZOFFSETTO:-0500
TZNAME:EST
DTSTART:20071104T020000
RRULE:FREQ=YEARLY;BYMONTH=11;BYDAY=1SU
END:STANDARD
END:VTIMEZONE
BEGIN:VEVENT
DTSTAMP:20230706T105406
DTSTART;TZID=America/Detroit:20230707T200000
SUMMARY:Performance:Ani & Kora // Dead North
DESCRIPTION:Avant-grass and Americana from the U.P.!\n\nAni & Kora are Ani Mari and Kora Melia\, a folk duo from Houghton\, Michigan. Old on soul and sharp as a tack\, their music (Ani's lyrics\, lead vocals\, and rhythm guitar combined with Kora's virtuosic fiddle and mandolin playing and backing vocals) is inspired by their upbringing in the Keweenaw Peninsula and the folk\, indie rock\, and Americana music they grew up immersed in\, with pinches of jazz and riot grrrl thrown in for good measure. Ani & Kora have released two full albums and one EP of original music\, and have been playing at Michigan-based venues and music festivals alongside artists such as The Accidentals\, May Erlewine\, Lindsay Lou\, Seth Bernard\, and Joshua Davis since they were 12 years old. Their most recent album\, “Good Fighter\,” was recorded in the Twin Cities with Americana folk and country artist Erik Koskinen. Ani is also a current student at U-M and plays around Ann Arbor with her other band\, Ani Mari & Company.\n\nDead North is an avant-garde bluegrass band from Houghton\, Michigan\, consisting of Luke Pascot on guitar and vocals\; Kora Melia on fiddle\, mandolin\, and vocals\; and Nate Miller on bass and vocals. Inspired by the likes of Tony Rice\, The Grateful Dead\, Billy Strings\, and so many more\, their sound is a psychedelic harmony of bluegrass standards\, jazz improv\, and Appalachian folk. Immersed in the music of a past generation\, they are a common sight around campfires in the Northwoods\, in the back rooms of breweries\, and in your favorite Michigan theaters.\n\nPlease visit https://mutotix.umich.edu/4121/4122 for more detail.
UID:107648-21816317@events.umich.edu
URL:https://events.umich.edu/event/107648
CLASS:PUBLIC
STATUS:CONFIRMED
CATEGORIES:Ark,Mutotix
LOCATION:ARK Reserved
CONTACT:
END:VEVENT
BEGIN:VEVENT
DTSTAMP:20230609T101936
DTSTART;TZID=America/Detroit:20230707T203000
DTEND;TZID=America/Detroit:20230707T223000
SUMMARY:Reception / Open House:July Astronomy Nights
DESCRIPTION:Explore the heavens during one of our astronomy nights. Open houses involve presentations on a range of fascinating astronomical phenomena\, instruction on the telescopes\, and\, when weather permits\, observing with our beautiful historic Fitz telescope as well as modern supplemental telescopes.\n\nPlease note: astronomy events at the Observatory take place even if the weather does not permit observing. We offer unique tour and telescope demos when we can't observe the night sky. Tickets are required\, and open house registrations are capped at 100 guests. You can arrive anytime from 8:30 pm to 10 pm. You will be given a time slot for visiting the dome. While you are waiting\, check out other features and presentations.
UID:108603-21820194@events.umich.edu
URL:https://events.umich.edu/event/108603
CLASS:PUBLIC
STATUS:CONFIRMED
CATEGORIES:Telescope Observation,Telescopes,telescope viewing,Science,educational
LOCATION:Detroit Observatory
CONTACT:
END:VEVENT
END:VCALENDAR