BEGIN:VCALENDAR
VERSION:2.0
PRODID:-//UM//UM*Events//EN
CALSCALE:GREGORIAN
BEGIN:VTIMEZONE
TZID:America/Detroit
TZURL:http://tzurl.org/zoneinfo/America/Detroit
X-LIC-LOCATION:America/Detroit
BEGIN:DAYLIGHT
TZOFFSETFROM:-0500
TZOFFSETTO:-0400
TZNAME:EDT
DTSTART:20070311T020000
RRULE:FREQ=YEARLY;BYMONTH=3;BYDAY=2SU
END:DAYLIGHT
BEGIN:STANDARD
TZOFFSETFROM:-0400
TZOFFSETTO:-0500
TZNAME:EST
DTSTART:20071104T020000
RRULE:FREQ=YEARLY;BYMONTH=11;BYDAY=1SU
END:STANDARD
END:VTIMEZONE
BEGIN:VEVENT
DTSTAMP:20230728T063036
DTSTART;TZID=America/Detroit:20230713T120000
DTEND;TZID=America/Detroit:20230713T130000
SUMMARY:Careers / Jobs:Resume Lab
DESCRIPTION:Just getting started building a resume? Have a draft but not sure how to make it better? Want to learn about resources available to revise your resume? Wherever you’re at Resume Lab is a great next step for you.\n\nGet real-time\, personalized support in a small group setting by checking out the Resume Lab. \n\nWe will discuss and educate you on…\n- Design and format\n- Writing a great bullet point\n- Targeting your resume for specific internships/jobs\n\nIf you're a Graduate Student or Recent Grad\, please make a 1:1 appointment instead of attending the Lab because this event is designed for undergraduates.
UID:107577-21816228@events.umich.edu
URL:https://events.umich.edu/event/107577
CLASS:PUBLIC
STATUS:CONFIRMED
CATEGORIES:
LOCATION:
CONTACT:
END:VEVENT
BEGIN:VEVENT
DTSTAMP:20230728T123047
DTSTART;TZID=America/Detroit:20230713T120000
DTEND;TZID=America/Detroit:20230713T130000
SUMMARY:Careers / Jobs:Workplace Tips: Succeeding in a Multi-Generational Workplace
DESCRIPTION:Historically\, new grads would join companies and replace retiring employees. Today\, more mature employees are working up to 10 to 15 years longer\, so retirement turnover in down significantly. With PACCAR's established business in place for over 100 years\, paired with our continuous expansion as a global technology leader\, our present result is a verywide span of employees working together. Like many workforces today\, we are embodying a progressive multi-generational team.  Join PACCAR for thisspecial event on July 13th at 12:00pm PDT to learn tips to be successful within a multi-generational work team!\n\nPACCAR is a global technology leader in the design\, manufacture and customer support of premium light-\, medium- and heavy-duty trucks under the Kenworth\, Peterbilt and DAF nameplates. PACCAR also designs and manufactures advanced diesel engines\, provides financial services\, information technology\, and distributes truck parts related to its principal business. To learn more about us please visit www.PACCAR.com.
UID:108853-21820475@events.umich.edu
URL:https://events.umich.edu/event/108853
CLASS:PUBLIC
STATUS:CONFIRMED
CATEGORIES:
LOCATION:
CONTACT:
END:VEVENT
END:VCALENDAR