BEGIN:VCALENDAR
VERSION:2.0
PRODID:-//UM//UM*Events//EN
CALSCALE:GREGORIAN
BEGIN:VTIMEZONE
TZID:America/Detroit
TZURL:http://tzurl.org/zoneinfo/America/Detroit
X-LIC-LOCATION:America/Detroit
BEGIN:DAYLIGHT
TZOFFSETFROM:-0500
TZOFFSETTO:-0400
TZNAME:EDT
DTSTART:20070311T020000
RRULE:FREQ=YEARLY;BYMONTH=3;BYDAY=2SU
END:DAYLIGHT
BEGIN:STANDARD
TZOFFSETFROM:-0400
TZOFFSETTO:-0500
TZNAME:EST
DTSTART:20071104T020000
RRULE:FREQ=YEARLY;BYMONTH=11;BYDAY=1SU
END:STANDARD
END:VTIMEZONE
BEGIN:VEVENT
DTSTAMP:20230728T123051
DTSTART;TZID=America/Detroit:20230713T130000
DTEND;TZID=America/Detroit:20230713T140000
SUMMARY:Careers / Jobs:Find Your Place In Space with FAA
DESCRIPTION:Find Your Place in Space\nDo you want to find your place in space? Join the FAA’s Office of Commercial Space Transportation’s Informational Session on Thursday\, July 13\, 1:00 – 2:00 PM ET to learn aboutthe exciting and rewarding careers in commercial space transportation!\n\nWhat to expect:\nA casual\, but informative\, conversation with team members from the Office of Commercial Space Transportation who will share how their jobs help ensure the safety of commercial space rocket launches and reentries.\n\nIn this workshop you will learn:\n•	What the Office of Commercial Space Transportation does\n•	Why the FAA is a global leader in commercial space transportation safety\n•	Why commercial space transportation is important in the U.S. and globally\n
UID:109013-21820721@events.umich.edu
URL:https://events.umich.edu/event/109013
CLASS:PUBLIC
STATUS:CONFIRMED
CATEGORIES:
LOCATION:
CONTACT:
END:VEVENT
BEGIN:VEVENT
DTSTAMP:20230705T142928
DTSTART;TZID=America/Detroit:20230713T130000
DTEND;TZID=America/Detroit:20230713T134500
SUMMARY:Workshop / Seminar:Microlearning: Take Your Professional Development to the Next Level with the U-M Development Journey and LinkedIn Learning
DESCRIPTION:The course details are available on the Organizational Learning Website.
UID:108990-21820689@events.umich.edu
URL:https://events.umich.edu/event/108990
CLASS:PUBLIC
STATUS:CONFIRMED
CATEGORIES:Career,Linkedin Learning,Microlearning,Professional Development
LOCATION:Off Campus Location
CONTACT:
END:VEVENT
END:VCALENDAR