BEGIN:VCALENDAR
VERSION:2.0
PRODID:-//UM//UM*Events//EN
CALSCALE:GREGORIAN
BEGIN:VTIMEZONE
TZID:America/Detroit
TZURL:http://tzurl.org/zoneinfo/America/Detroit
X-LIC-LOCATION:America/Detroit
BEGIN:DAYLIGHT
TZOFFSETFROM:-0500
TZOFFSETTO:-0400
TZNAME:EDT
DTSTART:20070311T020000
RRULE:FREQ=YEARLY;BYMONTH=3;BYDAY=2SU
END:DAYLIGHT
BEGIN:STANDARD
TZOFFSETFROM:-0400
TZOFFSETTO:-0500
TZNAME:EST
DTSTART:20071104T020000
RRULE:FREQ=YEARLY;BYMONTH=11;BYDAY=1SU
END:STANDARD
END:VTIMEZONE
BEGIN:VEVENT
DTSTAMP:20230710T100759
DTSTART;TZID=America/Detroit:20230713T130000
DTEND;TZID=America/Detroit:20230713T140000
SUMMARY:Workshop / Seminar:Physics Graduate Student Symposium (PGSS) | All-Infrared Electromagnetically Induced Transparency with Rydberg Atoms
DESCRIPTION:TBA
UID:108480-21819636@events.umich.edu
URL:https://events.umich.edu/event/108480
CLASS:PUBLIC
STATUS:CONFIRMED
CATEGORIES:Graduate Students
LOCATION:West Hall - 335
CONTACT:
END:VEVENT
BEGIN:VEVENT
DTSTAMP:20230713T122014
DTSTART;TZID=America/Detroit:20230713T130000
DTEND;TZID=America/Detroit:20230724T160000
SUMMARY:Workshop / Seminar:UGED LSA Orientation
DESCRIPTION:
UID:109140-21821119@events.umich.edu
URL:https://events.umich.edu/event/109140
CLASS:PUBLIC
STATUS:CONFIRMED
CATEGORIES:Sessions
LOCATION:
CONTACT:
END:VEVENT
END:VCALENDAR