BEGIN:VCALENDAR
VERSION:2.0
PRODID:-//UM//UM*Events//EN
CALSCALE:GREGORIAN
BEGIN:VTIMEZONE
TZID:America/Detroit
TZURL:http://tzurl.org/zoneinfo/America/Detroit
X-LIC-LOCATION:America/Detroit
BEGIN:DAYLIGHT
TZOFFSETFROM:-0500
TZOFFSETTO:-0400
TZNAME:EDT
DTSTART:20070311T020000
RRULE:FREQ=YEARLY;BYMONTH=3;BYDAY=2SU
END:DAYLIGHT
BEGIN:STANDARD
TZOFFSETFROM:-0400
TZOFFSETTO:-0500
TZNAME:EST
DTSTART:20071104T020000
RRULE:FREQ=YEARLY;BYMONTH=11;BYDAY=1SU
END:STANDARD
END:VTIMEZONE
BEGIN:VEVENT
DTSTAMP:20230708T152033
DTSTART;TZID=America/Detroit:20230713T163000
DTEND;TZID=America/Detroit:20230713T180000
SUMMARY:Recreational / Games:CLaSP - GUStO Field Day
DESCRIPTION:Beat the summer boredom and take a break to join us for an afternoon of outdoor fun (including ladder ball\, cornhole\, can-jam\, and capture the flag!) All are welcome - Please RSVP so we can get your favorite snacks :) \n\nRSVP here: *https://docs.google.com/forms/d/e/1FAIpQLSd-JHysvGZF_D1zfU-E4o3wL93jvFZ31Qd0dEYVVT1QBWtmZg/viewform?usp=sf_link*
UID:109035-21820749@events.umich.edu
URL:https://events.umich.edu/event/109035
CLASS:PUBLIC
STATUS:CONFIRMED
CATEGORIES:Graduate,Undergraduate,Student Org,Outdoors,North Campus,Games,College Of Engineering,Climate and Space Sciences and Engineering
LOCATION:Climate and Space Research Building
CONTACT:
END:VEVENT
BEGIN:VEVENT
DTSTAMP:20230713T172014
DTSTART;TZID=America/Detroit:20230713T180000
DTEND;TZID=America/Detroit:20230713T193000
SUMMARY:Workshop / Seminar:MRADS Game Night
DESCRIPTION:A fun night of virtual games and meeting incomming MRADS students
UID:108993-21820697@events.umich.edu
URL:https://events.umich.edu/event/108993
CLASS:PUBLIC
STATUS:CONFIRMED
CATEGORIES:Sessions
LOCATION:Zoom
CONTACT:
END:VEVENT
END:VCALENDAR