BEGIN:VCALENDAR
VERSION:2.0
PRODID:-//UM//UM*Events//EN
CALSCALE:GREGORIAN
BEGIN:VTIMEZONE
TZID:America/Detroit
TZURL:http://tzurl.org/zoneinfo/America/Detroit
X-LIC-LOCATION:America/Detroit
BEGIN:DAYLIGHT
TZOFFSETFROM:-0500
TZOFFSETTO:-0400
TZNAME:EDT
DTSTART:20070311T020000
RRULE:FREQ=YEARLY;BYMONTH=3;BYDAY=2SU
END:DAYLIGHT
BEGIN:STANDARD
TZOFFSETFROM:-0400
TZOFFSETTO:-0500
TZNAME:EST
DTSTART:20071104T020000
RRULE:FREQ=YEARLY;BYMONTH=11;BYDAY=1SU
END:STANDARD
END:VTIMEZONE
BEGIN:VEVENT
DTSTAMP:20230709T224741
DTSTART;TZID=America/Detroit:20230713T183000
DTEND;TZID=America/Detroit:20230713T203000
SUMMARY:Social / Informal Gathering:Summer of Connections Tour 2023: New York City
DESCRIPTION:Spending your time in New York City this summer and wondering how you can tap into your LSA Alum network? Wonder no more! The Opportunity Hub coming to you and bringing our alums with us! Join us and other alums who live and/or work in NYC in an evening of casual\, low-risk engagements to build your networking skills while developing new professional connections with supportive Wolverines right where you are. Participating students will have the unique opportunity to meet local alums from a variety of industries and organizations and begin networking relationships that can continue on LSA Connect. \n\nWho is attending:\n\nJaime Cohen\, Communication\, 1998\, Account Executive\, Warner Brothers Discovery\n\nAdam Chodkowski\, Economics\, 1995\, Head of Legal\, Capital Markets\, and Asset Management\, Swiss Re\n\nAlexjandria Edwards\, Political Science\, 2017\, Account Supervisor of Influencer Engagement\, BerlinRosen\n\nJodi Gorenstein\, Communication/Psychology\, 1996\, Head of Business Development\, Inspire Human Resources\n\nKrystal Hur\, English\, 2021\, Markets Writer\, CNN\n\nDeRonn Kidd\, Brain\, Behavior\, and Cognitive Sciences\, 2010\, Senior Manager/Project Program Manager\, CVS Health/Aetna\n\nJordan Medina\, Sociology\, 2013\, Senior Manager of Social Impact\, LinkedIn\n\nCeleste Northern\, Communication\, 2007\, Marketing Chair (Former President)\, U-M Alumni Club of NYC\n\nAmit Pandya\, Psychology/Studies in Religion\, 2001\, VP\, Talent\; League\n\nNikil Ramanathan\, Economics\, 2013\, Senior Product Manager\, Jackpocket\n\nShameek Ray\, Computer Science\, 2020\, Product Manager\, MongoDB\n\nNicole Teddone\, Film\, Television\, and Media\, 2019\, Agent Trainee and TV Scripted Assistant\, William Morris Endeavor\n\nCameron Werhane\, Economics\, Political Science\, 2018\, Technology Corporate Banking Associate\, J.P. Morgan\n\nSai Zheng\, Economics/Mathematics\, 2021\, Technology Consultant\, Ernst & Young\n\n\nYou should attend this session if you are:\n\nAn LSA undergraduate \n\nLive/work locally in New York City\n\nCompleting an internship in NYC this summer\n\nA soon-to-be-grad looking to live/work in NYC after graduation\n\n\nWhat you will gain by attending:\n\nDevelop Networking skills in low-risk interactions\n\nBuild Social Capital through engaging Alum network as student\n\nLearn more about interested potential career paths\n\nRSVP NOW to save your spot. \n\nDetails about the exact location of this event\, time and duration\, and more will be emailed to students who RSVP.
UID:107710-21816396@events.umich.edu
URL:https://events.umich.edu/event/107710
CLASS:PUBLIC
STATUS:CONFIRMED
CATEGORIES:Alumni,Lsa Opportunity Hub,Nyc
LOCATION:Off Campus Location
CONTACT:
END:VEVENT
BEGIN:VEVENT
DTSTAMP:20230613T121602
DTSTART;TZID=America/Detroit:20230713T190000
DTEND;TZID=America/Detroit:20230713T200000
SUMMARY:Performance:Student Chamber Music Concert
DESCRIPTION:Center Stage Strings (CSS)—one of SMTD’s MPulse performing arts summer programs for youth—welcomes the public to a series of live concerts\, free to attend in-person on campus or to watch from anywhere via Livestream.\n\nCSS was founded by renowned violinist and SMTD Professor Danielle Belen to develop the talents of serious young classical music students in the areas of solo and chamber music performance. Learn more at centerstagestrings.net.
UID:108458-21819613@events.umich.edu
URL:https://events.umich.edu/event/108458
CLASS:PUBLIC
STATUS:CONFIRMED
CATEGORIES:
LOCATION:Off Campus Location
CONTACT:
END:VEVENT
END:VCALENDAR